BEGIN:VCALENDAR
VERSION:2.0
PRODID:-//ChamberMaster//Event Calendar 2.0//EN
METHOD:PUBLISH
X-PUBLISHED-TTL:P3D
REFRESH-INTERVAL:P3D
CALSCALE:GREGORIAN
BEGIN:VEVENT
DTSTART;VALUE=DATE:20140111
DTEND;VALUE=DATE:20140112
TRANSP:TRANSPARENT
X-MICROSOFT-CDO-ALLDAYEVENT:TRUE
SUMMARY:Invasive Species Removal at Hare Creek Beach
DESCRIPTION:Join Volunteer\, Betty Stechmeyer and the MLT crew to preserve and restore Hare Creek Beach. Tools will be provided. Please meet at the College of the Redwoods parking lot. Contact Betty for more information and to RSVP at 707-964-2922
X-ALT-DESC;FMTTYPE=text/html:<p>Join Volunteer\, Betty Stechmeyer and the MLT crew to preserve and restore Hare Creek Beach. Tools will be provided. Please meet at the College of the Redwoods parking lot. Contact Betty for more information and to RSVP at 707-964-2922</p>
LOCATION:College of the Redwoods parking lot\, Fort Bragg Mendocino
UID:e.2883.53
SEQUENCE:3
DTSTAMP:20260423T162004Z
URL:https://mendocinocoast.com/events/details/invasive-species-removal-at-hare-creek-beach-01-11-2014-53
END:VEVENT

END:VCALENDAR
