BEGIN:VCALENDAR
VERSION:2.0
PRODID:-//ChamberMaster//Event Calendar 2.0//EN
METHOD:PUBLISH
X-PUBLISHED-TTL:P3D
REFRESH-INTERVAL:P3D
CALSCALE:GREGORIAN
BEGIN:VEVENT
DTSTART:20150320T170000Z
DTEND:20150321T000000Z
X-MICROSOFT-CDO-ALLDAYEVENT:FALSE
SUMMARY:"In the Abstract" Juried Show
DESCRIPTION:Â â€œIN THE ABSTRACTâ€Franci Cauldon: Mixed Media PaintingsBonnie Lammar: Mixed Media and PhotographyJack Gilmour: AssemblageÂ April 2 to 26\, 2015First Friday Reception\, April 3\, 5-8pmÂ Partners Gallery is showing â€œIn the Abstract\,â€ a three-person show juried by Marvin Schenck\, recently retired curator for the Grace Hudson Museum in Ukiah.Â Franci Claudonâ€™s paintings in acrylic and mixed media on cradled birch are an exploration of beauty and possibility. Pieces are created through building and subtracting layers resulting in finished work that is rich and textured\, expressing moods from loud and bold to still and mysterious.Â Â Bonnie Lammarâ€™s "naught-i-call (to mind)" abstract images are digital files of mixed media using layers and textures over a photograph.Â  With a painterly effect\, they translate a feeling of space and stillness\, a breath and a moment to listen to messages coming from within.Â Â As a lifelong surfer\, Jack Gilmour is enthralled with the flotsam and jetsam found on Pacific Ocean beaches\, each piece telling a story. He enjoys the recycling process of transforming trash into treasure. His assemblages are constructed in a painterly fashion\, resulting in colorful abstract expressionist compositions.Â Partners Gallery is located at 335N. Franklin Street in Fort Bragg and is open Wednesday through Monday 10 am to 5 pm and Sundays 10 am to 4 pm.707 962-0233Â  http://www.partnersgallery.com Â
X-ALT-DESC;FMTTYPE=text/html:<p>Â </p><p>â€œIN THE ABSTRACTâ€</p><p>Franci Cauldon: Mixed Media Paintings</p><p>Bonnie Lammar: Mixed Media and Photography</p><p>Jack Gilmour: Assemblage</p><p>Â </p><p>April 2 to 26\, 2015</p><p>First Friday Reception\, April 3\, 5-8pm</p><p>Â </p><p>Partners Gallery is showing â€œIn the Abstract\,â€ a three-person show juried by Marvin Schenck\, recently retired curator for the Grace Hudson Museum in Ukiah.</p><p>Â </p><p>Franci Claudonâ€™s paintings in acrylic and mixed media on cradled birch are an exploration of beauty and possibility. Pieces are created through building and subtracting layers resulting in finished work that is rich and textured\, expressing moods from loud and bold to still and mysterious.</p><p>Â </p><p>Â </p><p>Bonnie Lammarâ€™s "naught-i-call (to mind)" abstract images are digital files of mixed media using layers and textures over a photograph.Â  With a painterly effect\, they translate a feeling of space and stillness\, a breath and a moment to listen to messages coming from within.</p><p>Â </p><p>Â </p><p>As a lifelong surfer\, Jack Gilmour is enthralled with the flotsam and jetsam found on Pacific Ocean beaches\, each piece telling a story. He enjoys the recycling process of transforming trash into treasure. His assemblages are constructed in a painterly fashion\, resulting in colorful abstract expressionist compositions.</p><p>Â </p><p>Partners Gallery is located at 335N. Franklin Street in Fort Bragg and is open Wednesday through Monday 10 am to 5 pm and Sundays 10 am to 4 pm.</p><p>707 962-0233Â  <a href="http://www.partnersgallery.com">http://www.partnersgallery.com</a>&gt\;</p><p>Â </p>
LOCATION:Partners Gallery Fort Bragg
UID:e.2883.565
SEQUENCE:3
DTSTAMP:20260422T133424Z
URL:https://mendocinocoast.com/events/details/in-the-abstract-juried-show-03-20-2015-565
END:VEVENT

END:VCALENDAR
