BEGIN:VCALENDAR
VERSION:2.0
PRODID:-//ChamberMaster//Event Calendar 2.0//EN
METHOD:PUBLISH
X-PUBLISHED-TTL:P3D
REFRESH-INTERVAL:P3D
CALSCALE:GREGORIAN
BEGIN:VEVENT
DTSTART:20160216T180000Z
DTEND:20160216T200000Z
X-MICROSOFT-CDO-ALLDAYEVENT:FALSE
SUMMARY:How to Design Bee-Friendly Flower Gardens
DESCRIPTION:Saturday\, April 30thÂ from 10:00am to 12:00pmin the Gardens Meeting RoomÂ with MCBG Board Member\, Kate FreyÂ Flower-filled gardens make us happy and can support many species of bees and much other biodiversity beneficial to our gardens. We all desire our gardens to be full of color and interest for many months of the year\, yet what flowers appeal to which bees and why? How can we put them together in compositions that work well with the parameters of our site and in color combinations that suit us\, and cater to beeâ€™s needs for many months of the year? This class offers many colorful examples of flower filled gardens that support bees.KateÂ Frey is a notedÂ garden designer and consultant. She specializes in the creation of sustainable\, organic\, habitat gardens that reflect the climate conditions\, soil and biodiversity of their locations and provide abundant habitat for pollinators through all four seasons of the year. Her recently publishedÂ book on the subjectâ€”The Bee-Friendly Gardenâ€”will be available to purchase after the class. Â Class costs: $10 for members and Master Gardeners Â | Â $20 for non-members (payment due upon sign-up)\, Includes Gardens admission for the day! Class size is limited\; sign up by phoning in your payment at 707 964-4352 ext. 16 or reserve your spot in person at The Garden Store at MCBG.\nLooking for a way to keep track of all of the wonderful workshops and events at Mendocino Coast Botanical Gardens?Subscribe to the MCBG Events Feed on Facebook-www.facebook.com/mendocinocoastbotanicalgardens/events... andÂ sign up for our "Bloom Blast"\, it is chock-full of info about the Gardens\, our beautiful blooms\, and upcoming events!
X-ALT-DESC;FMTTYPE=text/html:<h2><span style="font-size:medium\;font-family:georgia\, palatino\;">Saturday\, April 30thÂ from 10:00am to 12:00pm</span></h2><p><span style="font-size:medium\;font-family:georgia\, palatino\;">in the Gardens Meeting RoomÂ with MCBG Board Member\, Kate Frey</span></p><p>Â </p><p><span style="font-size:medium\;font-family:georgia\, palatino\;">Flower-filled gardens make us happy and can support many species of bees and much other biodiversity beneficial to our gardens. We all desire our gardens to be full of color and interest for many months of the year\, yet what flowers appeal to which bees and why? How can we put them together in compositions that work well with the parameters of our site and in color combinations that suit us\, and cater to beeâ€™s needs for many months of the year? This class offers many colorful examples of flower filled gardens that support bees.</span></p><p><span style="font-size:medium\;font-family:georgia\, palatino\;"><em>KateÂ Frey is a notedÂ garden designer and consultant. She specializes in the creation of sustainable\, organic\, habitat gardens that reflect the climate conditions\, soil and biodiversity of their locations and provide abundant habitat for pollinators through all four seasons of the year. Her recently publishedÂ book on the subjectâ€”The Bee-Friendly Garden</em><strong><em>â€”</em></strong><em>will be available to purchase after the class. </em></span></p><p>Â </p><p><span style="font-family:georgia\, palatino\;font-size:medium\;">Class costs: $10 for members and Master Gardeners Â | Â $20 for non-members (payment due upon sign-up)\, Includes Gardens admission for the day!</span></p><p><span> </span><span style="font-size:medium\;font-family:georgia\, palatino\;">Class size is limited\; sign up by phoning in your payment at 707 964-4352 ext. 16 or reserve your spot in person at The Garden Store at MCBG.</span></p><p><span style="font-size:medium\;font-family:georgia\, palatino\;"><br /></span></p><hr /><h4><span style="font-size:medium\;font-family:georgia\, palatino\;"><em>Looking for a way to keep track of all of the wonderful workshops and events at Mendocino Coast Botanical Gardens?</em></span></h4><p><span style="font-size:medium\;font-family:georgia\, palatino\;">Subscribe to the MCBG Events Feed on Facebook-<a href="https://www.facebook.com/mendocinocoastbotanicalgardens/events?key=events" target="_blank">www.facebook.com/mendocinocoastbotanicalgardens/events</a>... andÂ <a href="http://gardenbythesea.us6.list-manage.com/subscribe?u=47f057ea8c09e1519b2e52094&amp\;id=e4d628c753" target="_blank">sign up for our "Bloom Blast"</a>\, it is chock-full of info about the Gardens\, our beautiful blooms\, and upcoming events!</span></p>
LOCATION:Mendocino Coast Botanical Gardens Fort Bragg
UID:e.2883.855
SEQUENCE:3
DTSTAMP:20260421T192116Z
URL:https://mendocinocoast.com/events/details/how-to-design-bee-friendly-flower-gardens-02-16-2016-855
END:VEVENT

END:VCALENDAR
