BEGIN:VCALENDAR
VERSION:2.0
PRODID:-//ChamberMaster//Event Calendar 2.0//EN
METHOD:PUBLISH
X-PUBLISHED-TTL:P3D
REFRESH-INTERVAL:P3D
CALSCALE:GREGORIAN
BEGIN:VEVENT
DTSTART;VALUE=DATE:20151022
DTEND;VALUE=DATE:20151023
TRANSP:TRANSPARENT
X-MICROSOFT-CDO-ALLDAYEVENT:TRUE
SUMMARY:Home\, Home\, on the Coast-- Art Show
DESCRIPTION:Art Explorersâ€™ 10th exhibit at Oddfellows Hall in Mendocino is a celebration of life in Mendocino County. Home\, Home\, on the Coast opens November 13th and runs through November 29th\, Friday to Sunday 11 a.m. to 5 p.m. Come to the opening reception November 14th\, 5 p.m. to 8 p.m. and enjoy wine\, hors dâ€™oeuvres and the chance to purchase amazing artwork. Art Explorers is a nonprofit supporting 20 artists with disabilities. Visit our website for more information on our programâ€”www.artexplorers.org
X-ALT-DESC;FMTTYPE=text/html:<p>Art Explorersâ€™ 10<sup>th</sup> exhibit at Oddfellows Hall in Mendocino is a celebration of life in Mendocino County. Home\, Home\, on the Coast opens November 13<sup>th</sup> and runs through November 29<sup>th</sup>\, Friday to Sunday 11 a.m. to 5 p.m. Come to the opening reception November 14<sup>th</sup>\, 5 p.m. to 8 p.m. and enjoy wine\, hors dâ€™oeuvres and the chance to purchase amazing artwork. Art Explorers is a nonprofit supporting 20 artists with disabilities. Visit our website for more information on our programâ€”www.artexplorers.org</p>
LOCATION:Odd Fellows Hall Mendocino
UID:e.2883.765
SEQUENCE:3
DTSTAMP:20260422T015729Z
URL:https://mendocinocoast.com/events/details/home-home-on-the-coast-art-show-10-22-2015-765
END:VEVENT

END:VCALENDAR
