BEGIN:VCALENDAR
VERSION:2.0
PRODID:-//ChamberMaster//Event Calendar 2.0//EN
METHOD:PUBLISH
X-PUBLISHED-TTL:P3D
REFRESH-INTERVAL:P3D
CALSCALE:GREGORIAN
BEGIN:VEVENT
DTSTART:20140511T030000Z
DTEND:20140511T050000Z
X-MICROSOFT-CDO-ALLDAYEVENT:FALSE
SUMMARY:Holiday Revue
DESCRIPTION:Loads of holiday music for everyone! Local groups\, singers\, orchestra and great fun!To be a part of the Craft\, go to:Â http://www.mendocoastsoccer.org/tess/Craft%20Fair%20application.htm
X-ALT-DESC;FMTTYPE=text/html:<p>Loads of holiday music for everyone! Local groups\, singers\, orchestra and great fun!</p><p>To be a part of the Craft\, go to:Â http://www.mendocoastsoccer.org/tess/Craft%20Fair%20application.htm</p>
LOCATION:Cotton Auditorium Fort Bragg
UID:e.2883.269
SEQUENCE:3
DTSTAMP:20260423T082529Z
URL:https://mendocinocoast.com/events/details/holiday-revue-05-10-2014-269
END:VEVENT

END:VCALENDAR
