BEGIN:VCALENDAR
VERSION:2.0
PRODID:-//ChamberMaster//Event Calendar 2.0//EN
METHOD:PUBLISH
X-PUBLISHED-TTL:P3D
REFRESH-INTERVAL:P3D
CALSCALE:GREGORIAN
BEGIN:VEVENT
DTSTART:20150402T030000Z
DTEND:20150402T051500Z
X-MICROSOFT-CDO-ALLDAYEVENT:FALSE
SUMMARY:Holiday Musical Revue
DESCRIPTION:A musical variety show full of local talent you love to see & hear. Seasonal favorites. Kids free! Come one\, come all! (More info closer to the date.)
X-ALT-DESC;FMTTYPE=text/html:<p>A musical variety show full of local talent you love to see &amp\; hear. Seasonal favorites. Kids free! Come one\, come all! (More info closer to the date.)</p>
LOCATION:Cotton Auditorium Fort Bragg
UID:e.2883.584
SEQUENCE:3
DTSTAMP:20260422T114947Z
URL:https://mendocinocoast.com/events/details/holiday-musical-revue-04-01-2015-584
END:VEVENT

END:VCALENDAR
