BEGIN:VCALENDAR
VERSION:2.0
PRODID:-//ChamberMaster//Event Calendar 2.0//EN
METHOD:PUBLISH
X-PUBLISHED-TTL:P3D
REFRESH-INTERVAL:P3D
CALSCALE:GREGORIAN
BEGIN:VEVENT
DTSTART:20150312T030000Z
DTEND:20150312T052000Z
X-MICROSOFT-CDO-ALLDAYEVENT:FALSE
SUMMARY:Holiday Musical Revue
DESCRIPTION:A rousing community event and fundraiser for Symphony of the Redwoods. Lots of local talent. Lots of seasonal favorites. Fun and entertainment for all.Kids get in free! More info to follow.
X-ALT-DESC;FMTTYPE=text/html:<p>A rousing community event and fundraiser for Symphony of the Redwoods. Lots of local talent. Lots of seasonal favorites. Fun and entertainment for all.</p><p>Kids get in free! More info to follow.</p>
LOCATION:Cotton Auditorium Fort Bragg
UID:e.2883.562
SEQUENCE:3
DTSTAMP:20260422T133353Z
URL:https://mendocinocoast.com/events/details/holiday-musical-revue-03-11-2015-562
END:VEVENT

END:VCALENDAR
