BEGIN:VCALENDAR
VERSION:2.0
PRODID:-//ChamberMaster//Event Calendar 2.0//EN
METHOD:PUBLISH
X-PUBLISHED-TTL:P3D
REFRESH-INTERVAL:P3D
CALSCALE:GREGORIAN
BEGIN:VEVENT
DTSTART;VALUE=DATE:20141107
DTEND;VALUE=DATE:20141108
TRANSP:TRANSPARENT
X-MICROSOFT-CDO-ALLDAYEVENT:TRUE
SUMMARY:Holiday Lights Parade
DESCRIPTION:Holiday Lights Parade 2014! You too can be in the parade! Entries due by December 5\, 2014. Don't miss Downtown Fort Bragg's Historic Holiday celebration.
X-ALT-DESC;FMTTYPE=text/html:<p>Holiday Lights Parade 2014! You too can be in the parade! Entries due by December 5\, 2014. Don't miss Downtown Fort Bragg's Historic Holiday celebration.</p>
LOCATION:Historic Downtown Fort Bragg
UID:e.2883.373
SEQUENCE:3
DTSTAMP:20260422T195802Z
URL:https://mendocinocoast.com/events/details/holiday-lights-parade-11-07-2014-373
END:VEVENT

END:VCALENDAR
