BEGIN:VCALENDAR
VERSION:2.0
PRODID:-//ChamberMaster//Event Calendar 2.0//EN
METHOD:PUBLISH
X-PUBLISHED-TTL:P3D
REFRESH-INTERVAL:P3D
CALSCALE:GREGORIAN
BEGIN:VEVENT
DTSTART:20140930T180000Z
DTEND:20141001T000000Z
X-MICROSOFT-CDO-ALLDAYEVENT:FALSE
SUMMARY:HOLIDAY CRAFT FAIRE
DESCRIPTION:Sat. Dec. 13\, 201410-4 p.m.Preston HallMain St.\, Mendocinocraft & art vendorsyummysoup & bake saleSanta visits at 11:00 a.m.lots of fun & good cheer!no admission chargecall or email for info707-937-4913rainbows@mcn.org
X-ALT-DESC;FMTTYPE=text/html:<p>Sat. Dec. 13\, 2014</p><p>10-4 p.m.</p><p>Preston Hall</p><p>Main St.\, Mendocino</p><p>craft &amp\; art vendors</p><p>yummysoup &amp\; bake sale</p><p>Santa visits at 11:00 a.m.</p><p>lots of fun &amp\; good cheer!</p><p>no admission charge</p><p>call or email for info</p><p>707-937-4913</p><p>rainbows@mcn.org</p>
LOCATION:Preston Hall Mendocino CA
UID:e.2883.346
SEQUENCE:3
DTSTAMP:20260422T231939Z
URL:https://mendocinocoast.com/events/details/holiday-craft-faire-09-30-2014-346
END:VEVENT

END:VCALENDAR
