BEGIN:VCALENDAR
VERSION:2.0
PRODID:-//ChamberMaster//Event Calendar 2.0//EN
METHOD:PUBLISH
X-PUBLISHED-TTL:P3D
REFRESH-INTERVAL:P3D
CALSCALE:GREGORIAN
BEGIN:VEVENT
DTSTART:20151009T180000Z
DTEND:20151009T120000Z
X-MICROSOFT-CDO-ALLDAYEVENT:FALSE
SUMMARY:Holiday Craft Fair
DESCRIPTION:Craft fair in Preston Hall\, 44831 Main St\, Mendocino\nSat. Dec. 12Â  10 am-4 pmmany craft vendors plus food & festive cheer!Santa Claus 11 am & children sing along with Santa\nsilent auction & raffleÂ  benefit Rainbow nonprofit Preschool
X-ALT-DESC;FMTTYPE=text/html:<p><span style="color:#888888\;font-size:medium\;font-family:&quot\;arial black&quot\;\, &quot\;avant garde&quot\;\;"><strong>Craft fair in Preston Hall\, 44831 Main St\, Mendocino<br /></strong></span></p><p><span style="color:#888888\;font-size:medium\;font-family:&quot\;arial black&quot\;\, &quot\;avant garde&quot\;\;"><strong>Sat. Dec. 12Â  10 am-4 pm</strong></span></p><p><span style="color:#888888\;font-size:medium\;font-family:&quot\;arial black&quot\;\, &quot\;avant garde&quot\;\;"><strong>many craft vendors plus food &amp\; festive cheer!</strong></span></p><p><span style="color:#888888\;font-size:medium\;font-family:&quot\;arial black&quot\;\, &quot\;avant garde&quot\;\;"><strong>Santa Claus 11 am &amp\; children sing along with Santa<br /></strong></span></p><p><span style="color:#888888\;font-size:medium\;font-family:&quot\;arial black&quot\;\, &quot\;avant garde&quot\;\;"><strong>silent auction &amp\; raffleÂ  benefit Rainbow nonprofit Preschool<br /></strong></span></p>
LOCATION:Preston Hall Mendocino
UID:e.2883.746
SEQUENCE:3
DTSTAMP:20260422T014830Z
URL:https://mendocinocoast.com/events/details/holiday-craft-fair-10-09-2015-746
END:VEVENT

END:VCALENDAR
