BEGIN:VCALENDAR
VERSION:2.0
PRODID:-//ChamberMaster//Event Calendar 2.0//EN
METHOD:PUBLISH
X-PUBLISHED-TTL:P3D
REFRESH-INTERVAL:P3D
CALSCALE:GREGORIAN
BEGIN:VEVENT
DTSTART:20141023T033000Z
DTEND:20141023T053000Z
X-MICROSOFT-CDO-ALLDAYEVENT:FALSE
SUMMARY:Hit and Run Theater & Friends - Improv Comedy Weekend
DESCRIPTION:Mendocino Stories and Music Series presents Hit and Run Theater & Friends Comedy Weekend with improvised fun\, games and stories. They will play at the Hill House Inn of Mendocino on Friday and Saturday\, November 14 & 15. This weekend is supported by Arts Council of Mendocino\, a member organization that promotes the arts and cultivates creativity to benefit and enrich the lives of residents and visitors.Â The shows will start at 7:30PM.\n\nHit and Run Theater first coalesced in the late 1970s\, with Kathy Oâ€™Grady one of its charter members. Jill Jahelka has been with Hit and Run for more than 10 years and is aÂ veteran of many Gloriana shows before that\, while long-time Hit and Runner\, Steve Weingarten not only performs\, but makes ceramics and rock sculptures outside â€œWeinchester Cathedralâ€.Â  Doug Nunn coaches the Mendocino High School Improv Club each winter and migrates in the summer to Germany to work with theatre groups. \n\nThe delightful Christine Samas has charmed Hit and Run fans for the past five years. Rounding out the cast is voiceover artist Ken Krauss\, who has also worked with the Mendocino Theatre Company as an actor/sound tech.Â And Joshua Brody of Bay Area Theatresports returns to provide musical accompaniment for both eveningsâ€™ shows.\n\nAll Ages Welcome! Doors open at 6:00 PM for bistro menu and full bar\, Theater opens at 6:30PM. Come early for best seating. You can reserve seating for $20. General admission is $15 at the door. For more information about the shows and the workshop call Pattie at 937-1732 or www.mendocinostories.com/events_info.html
X-ALT-DESC;FMTTYPE=text/html:<p><span style="font-size:small\;"><strong>Mendocino Stories and Music Series</strong> presents Hit and Run Theater &amp\; Friends Comedy Weekend with improvised fun\, games and stories. They will play at the Hill House Inn of Mendocino on Friday and Saturday\, November 14 &amp\; 15. This weekend is supported by Arts Council of Mendocino\, a member organization that promotes the arts and cultivates creativity to benefit and enrich the lives of residents and visitors.Â The shows will start at 7:30PM.</span><br /><br /><span style="font-size:small\;">Hit and Run Theater first coalesced in the late 1970s\, with Kathy Oâ€™Grady one of its charter members. Jill Jahelka has been with Hit and Run for more than 10 years and is aÂ veteran of many Gloriana shows before that\, while long-time Hit and Runner\, Steve Weingarten not only performs\, but makes ceramics and rock sculptures outside â€œWeinchester Cathedralâ€.Â  Doug Nunn coaches the Mendocino High School Improv Club each winter and migrates in the summer to Germany to work with theatre groups. </span><br /><br /><span style="font-size:small\;">The delightful Christine Samas has charmed Hit and Run fans for the past five years. Rounding out the cast is voiceover artist Ken Krauss\, who has also worked with the Mendocino Theatre Company as an actor/sound tech.Â And Joshua Brody of Bay Area Theatresports returns to provide musical accompaniment for both eveningsâ€™ shows.</span><br /><br /><span style="font-size:small\;">All Ages Welcome! Doors open at 6:00 PM for bistro menu and full bar\, Theater opens at 6:30PM. Come early for best seating. You can reserve seating for $20. General admission is $15 at the door. For more information about the shows and the workshop call Pattie at 937-1732 or www.mendocinostories.com/events_info.html</span><br /><br /></p>
LOCATION:Hill House of Mendocino
UID:e.2883.355
SEQUENCE:3
DTSTAMP:20260422T214712Z
URL:https://mendocinocoast.com/events/details/hit-and-run-theater-friends-improv-comedy-weekend-10-22-2014-355
END:VEVENT

END:VCALENDAR
