BEGIN:VCALENDAR
VERSION:2.0
PRODID:-//ChamberMaster//Event Calendar 2.0//EN
METHOD:PUBLISH
X-PUBLISHED-TTL:P3D
REFRESH-INTERVAL:P3D
CALSCALE:GREGORIAN
BEGIN:VEVENT
DTSTART:20150914T033000Z
DTEND:20150914T053000Z
X-MICROSOFT-CDO-ALLDAYEVENT:FALSE
SUMMARY:Hit and Run Theater & Friends - Improv Comedy Weekend
DESCRIPTION:Hill House presents Hit and Run Theater & Friends Comedy Weekend with improvised fun\, games and stories. They will play at the Hill House Inn of Mendocino on Friday and Saturday\, November 6 & 7. The shows will start at 7:30PM. Each show is unique\, so plan to come out for both!\n\nHit and Run Theater first came together in the late 1970s\, with Kathy Oâ€™Grady as one of its charter members. Steady Jill Jahelka has been with the group for more than 10.Â  Long-time Hit and Runner Steve Weingarten performs and designs the groupâ€™s sets. Doug Nunn coaches the Mendocino High School Improv Club each. The delightful Christine Samas has charmed Hit and Run fans for the past six years with her voice and smile. Dan Sullivan returns to Hit and Run once again from his comedy-writing. Rounding out the cast is voiceover artist Ken Krauss\,. And Joshua Raoul Brody of Bay Area Theatresports returns to provide musical accompaniment for both eveningsâ€™ shows.\n All Ages Welcome! Doors open at 6:00 PM for casual and full bar\, Theater opens at 6:30PM. Come early for best seating. General admission is $15 at the door. For more information about the shows call Pattie at 937-1732
X-ALT-DESC;FMTTYPE=text/html:<p><span style="font-size:medium\;">Hill House presents Hit and Run Theater &amp\; Friends Comedy Weekend with improvised fun\, games and stories. They will play at the Hill House Inn of Mendocino on Friday and Saturday\, November 6 &amp\; 7. The shows will start at 7:30PM. Each show is unique\, so plan to come out for both!</span><br /><br /><span style="font-size:medium\;">Hit and Run Theater first came together in the late 1970s\, with Kathy Oâ€™Grady as one of its charter members. Steady Jill Jahelka has been with the group for more than 10.Â  Long-time Hit and Runner Steve Weingarten performs and designs the groupâ€™s sets. Doug Nunn coaches the Mendocino High School Improv Club each. The delightful Christine Samas has charmed Hit and Run fans for the past six years with her voice and smile. Dan Sullivan returns to Hit and Run once again from his comedy-writing. Rounding out the cast is voiceover artist Ken Krauss\,. And Joshua Raoul Brody of Bay Area Theatresports returns to provide musical accompaniment for both eveningsâ€™ shows.</span><br /><span style="font-size:medium\;"> All Ages Welcome! Doors open at 6:00 PM for casual and full bar\, Theater opens at 6:30PM. Come early for best seating. General admission is $15 at the door. For more information about the shows call Pattie at 937-1732</span></p>
LOCATION:Hill House of Mendocino
UID:e.2883.733
SEQUENCE:3
DTSTAMP:20260422T033231Z
URL:https://mendocinocoast.com/events/details/hit-and-run-theater-friends-improv-comedy-weekend-09-13-2015-733
END:VEVENT

END:VCALENDAR
