BEGIN:VCALENDAR
VERSION:2.0
PRODID:-//ChamberMaster//Event Calendar 2.0//EN
METHOD:PUBLISH
X-PUBLISHED-TTL:P3D
REFRESH-INTERVAL:P3D
CALSCALE:GREGORIAN
BEGIN:VEVENT
DTSTART;VALUE=DATE:20140503
DTEND;VALUE=DATE:20140504
TRANSP:TRANSPARENT
X-MICROSOFT-CDO-ALLDAYEVENT:TRUE
SUMMARY:Hit and Run Theater & Friends - Improv Comedy Weekend
DESCRIPTION:Mendocino Stories and Music Series welcomes back Hit and Run Theater & Friends for two nights of improvised fun\, games and stories. They will play at the Hill House of Mendocino on Friday & Saturday\, June 6 & 7. The players are Jill Jahelka\, Ken Krauss\, Doug Nunn\, Kathy Oâ€™Grady\, Christine Samas\, Dan Sullivan\, and Steve Weingarten. Joshua Brody\, â€œjust maybe the greatest improv comedy keyboard accompanistâ€\, will join the gang for this weekend.Â Â The shows will start at 7:30PM.\n\nSpecial feature for this weekendâ€™s engagement is a Song Improvisation Workshop for beginners â€¦ and the terrified!â€ led by Joshua Brody\, music director for San Francisco's BATS Improv. The workshop will be held Saturday afternoon at the Hill House from 1 â€“ 4PM. Says Joshua\, $30 for a 3-hour workshop.\n\nThis weekend is supported by Arts Council of Mendocino\, a member organization that promotes the arts and cultivates creativity to benefit and enrich the lives of residents and visitors. \n\nAll comedy weekend shows\, doors open at 6:00 PM for dinner menu and drinks. Premier reserved seating at $20\, $15 at the door. For more information about the shows and the workshop call Pattie at 707-937-1732 or www.mendocinostories.com/events_info.html
X-ALT-DESC;FMTTYPE=text/html:<p><strong>Mendocino Stories and Music Series</strong> welcomes back Hit and Run Theater &amp\; Friends for two nights of improvised fun\, games and stories. They will play at the Hill House of Mendocino on Friday &amp\; Saturday\, June 6 &amp\; 7. The players are Jill Jahelka\, Ken Krauss\, Doug Nunn\, Kathy Oâ€™Grady\, Christine Samas\, Dan Sullivan\, and Steve Weingarten. Joshua Brody\, â€œjust maybe the greatest improv comedy keyboard accompanistâ€\, will join the gang for this weekend.Â Â The shows will start at 7:30PM.<br /><br />Special feature for this weekendâ€™s engagement is a Song Improvisation Workshop for beginners â€¦ and the terrified!â€ led by Joshua Brody\, music director for San Francisco's BATS Improv. The workshop will be held Saturday afternoon at the Hill House from 1 â€“ 4PM. Says Joshua\, $30 for a 3-hour workshop.<br /><br />This weekend is supported by Arts Council of Mendocino\, a member organization that promotes the arts and cultivates creativity to benefit and enrich the lives of residents and visitors. <br /><br />All comedy weekend shows\, doors open at 6:00 PM for dinner menu and drinks. Premier reserved seating at $20\, $15 at the door. For more information about the shows and the workshop call Pattie at 707-937-1732 or www.mendocinostories.com/events_info.html<br /><br /></p>
LOCATION:Hill House of Mendocino
UID:e.2883.243
SEQUENCE:3
DTSTAMP:20260423T083150Z
URL:https://mendocinocoast.com/events/details/hit-and-run-theater-friends-improv-comedy-weekend-05-03-2014-243
END:VEVENT

END:VCALENDAR
