BEGIN:VCALENDAR
VERSION:2.0
PRODID:-//ChamberMaster//Event Calendar 2.0//EN
METHOD:PUBLISH
X-PUBLISHED-TTL:P3D
REFRESH-INTERVAL:P3D
CALSCALE:GREGORIAN
BEGIN:VEVENT
DTSTART:20160127T043000Z
DTEND:20160127T070000Z
X-MICROSOFT-CDO-ALLDAYEVENT:FALSE
SUMMARY:Hit and Run Theater & Friends - Improv Comedy Weekend
DESCRIPTION:Hill House Inn will feature an Improv Comedy Weekend with Hit and Run Theater & Friends. Be ready for fun\, games and skits based on ideas from the audience when the gang plays on Friday and Saturday\, March 11 & 12. Each show is unique\, so plan on coming both nights. The shows will start at 7:30PM.\n\nHit and Run Theater first came together in the late 1970s\, with Kathy Oâ€™Grady as one of its charter members. Steady Jill Jahelka has been with the group for more than 10.Â  Long-time Hit and Runner Steve Weingarten performs and designs the groupâ€™s sets. Doug Nunn coaches the Mendocino High School Improv Club each winter. Dan Sullivan returns from his comedy-writing once again. Rounding out the cast is voiceover artist Ken Krauss. Joshua Raoul Brody of Bay Area Theatresports will provide the musical accompaniment for both eveningsâ€™ shows.â€¨â€¨All Ages Welcome! Doors open at 6:00 PM for casual and full bar\, Theater opens at 6:30PM. Come early for best seating. General admission is $15 at the door. For more information about the shows call Pattie at 937-1732
X-ALT-DESC;FMTTYPE=text/html:<p><span style="font-size:small\;">Hill House Inn will feature an Improv Comedy Weekend with Hit and Run Theater &amp\; Friends. Be ready for fun\, games and skits based on ideas from the audience when the gang plays on Friday and Saturday\, March 11 &amp\; 12. Each show is unique\, so plan on coming both nights. The shows will start at 7:30PM.</span><br /><br /><span style="font-size:small\;">Hit and Run Theater first came together in the late 1970s\, with Kathy Oâ€™Grady as one of its charter members. Steady Jill Jahelka has been with the group for more than 10.Â  Long-time Hit and Runner Steve Weingarten performs and designs the groupâ€™s sets. Doug Nunn coaches the Mendocino High School Improv Club each winter. Dan Sullivan returns from his comedy-writing once again. Rounding out the cast is voiceover artist Ken Krauss. Joshua Raoul Brody of Bay Area Theatresports will provide the musical accompaniment for both eveningsâ€™ shows.â€¨â€¨All Ages Welcome! Doors open at 6:00 PM for casual and full bar\, Theater opens at 6:30PM. Come early for best seating. General admission is $15 at the door. For more information about the shows call Pattie at 937-1732</span></p>
LOCATION:Hill House of Mendocino
UID:e.2883.842
SEQUENCE:3
DTSTAMP:20260421T211213Z
URL:https://mendocinocoast.com/events/details/hit-and-run-theater-friends-improv-comedy-weekend-01-26-2016-842
END:VEVENT

END:VCALENDAR
