BEGIN:VCALENDAR
VERSION:2.0
PRODID:-//ChamberMaster//Event Calendar 2.0//EN
METHOD:PUBLISH
X-PUBLISHED-TTL:P3D
REFRESH-INTERVAL:P3D
CALSCALE:GREGORIAN
BEGIN:VEVENT
DTSTART:20140228T230000Z
DTEND:20140301T003000Z
X-MICROSOFT-CDO-ALLDAYEVENT:FALSE
SUMMARY:History on the Headlands
DESCRIPTION:Begin this guided history walk indoors with a State Park Interpreter and continue on an easy one mile round-trip walk along the Mendocino Headlands State Park.Join us the following Saturdays from 2:00pm - 3:30pm:Â  March 8th\, 22nd\, 29th and April 5th\, 12th\, 19th\, 26th.Meet in the Ford House at 45035 Main Street in Mendocino.
X-ALT-DESC;FMTTYPE=text/html:<p>Begin this guided history walk indoors with a State Park Interpreter and continue on an easy one mile round-trip walk along the Mendocino Headlands State Park.</p><p>Join us the following Saturdays from 2:00pm - 3:30pm:Â  March 8th\, 22nd\, 29th and April 5th\, 12th\, 19th\, 26th.</p><p>Meet in the Ford House at 45035 Main Street in Mendocino.</p>
LOCATION:Ford House Museum Mendocino
UID:e.2883.163
SEQUENCE:3
DTSTAMP:20260423T131459Z
URL:https://mendocinocoast.com/events/details/history-on-the-headlands-02-28-2014-163
END:VEVENT

END:VCALENDAR
