BEGIN:VCALENDAR
VERSION:2.0
PRODID:-//ChamberMaster//Event Calendar 2.0//EN
METHOD:PUBLISH
X-PUBLISHED-TTL:P3D
REFRESH-INTERVAL:P3D
CALSCALE:GREGORIAN
BEGIN:VEVENT
DTSTART:20141229T200000Z
DTEND:20141229T220000Z
X-MICROSOFT-CDO-ALLDAYEVENT:FALSE
SUMMARY:Historical Walking Tour Mendocino
DESCRIPTION:Travel back in time with a historical walking tour of Mendocino. $10 per person. 11 a.m-1 p.m. Self-guided audio inter-active walking tours are also available. Kelley House Museum\, 45007 Albion Street\, Mendocino. 707.937.5791 www.kelleyhousemuseum.org
X-ALT-DESC;FMTTYPE=text/html:<p>Travel back in time with a historical walking tour of Mendocino. $10 per person. 11 a.m-1 p.m. Self-guided audio inter-active walking tours are also available. Kelley House Museum\, 45007 Albion Street\, Mendocino. 707.937.5791 www.kelleyhousemuseum.org</p>
LOCATION:Kelley House Museum Mendocino CA
UID:e.2883.415
SEQUENCE:3
DTSTAMP:20260422T193751Z
URL:https://mendocinocoast.com/events/details/historical-walking-tour-mendocino-12-29-2014-415
END:VEVENT

END:VCALENDAR
