BEGIN:VCALENDAR
VERSION:2.0
PRODID:-//ChamberMaster//Event Calendar 2.0//EN
METHOD:PUBLISH
X-PUBLISHED-TTL:P3D
REFRESH-INTERVAL:P3D
CALSCALE:GREGORIAN
BEGIN:VEVENT
DTSTART:20151201T060000Z
DTEND:20151201T100000Z
X-MICROSOFT-CDO-ALLDAYEVENT:FALSE
SUMMARY:Highway One - rock 'n' roll Dance Party
DESCRIPTION:With a friendly blend of quality homegrown rock 'n'  roll guaranteed to get your motor runnin'\, Highway One will take you on a  journey through rock music with sharp turns\, patchy fog\, and fast  straight stretches. With Sean Van Buskirk at the wheel\, Philip Dunn  navigating\, Sean"Connie man" Connolly and Jeffrey Walsh back seat  driving\, you will want to jump up and go for the ride of your life. Road  Worthy Rock from Highway One.\n\n Doors open at 6PM with a full  bar and casual dining. $20 at the door or free admission if you dine at  Mendocino Hotel. 937-0554.
X-ALT-DESC;FMTTYPE=text/html:<p><span>With a friendly blend of quality homegrown rock 'n'  roll guaranteed to get your motor runnin'\, Highway One will take you on a  journey through rock music with sharp turns\, patchy fog\, and fast  straight stretches. With Sean Van Buskirk at the wheel\, Philip Dunn  navigating\, Sean"Connie man" Connolly and Jeffrey Walsh back seat  driving\, you will want to jump up and go for the ride of your life. Road  Worthy Rock from Highway One.<br /><br /> Doors open at 6PM with a full  bar and casual dining. $20 at the door or free admission if you dine at  Mendocino Hotel. 937-0554.</span></p>
LOCATION:Hill House of Mendocino
UID:e.2883.805
SEQUENCE:3
DTSTAMP:20260421T223521Z
URL:https://mendocinocoast.com/events/details/highway-one-rock-n-roll-dance-party-11-30-2015-805
END:VEVENT

END:VCALENDAR
