BEGIN:VCALENDAR
VERSION:2.0
PRODID:-//ChamberMaster//Event Calendar 2.0//EN
METHOD:PUBLISH
X-PUBLISHED-TTL:P3D
REFRESH-INTERVAL:P3D
CALSCALE:GREGORIAN
BEGIN:VEVENT
DTSTART:20160114T043000Z
DTEND:20160114T073000Z
X-MICROSOFT-CDO-ALLDAYEVENT:FALSE
SUMMARY:Highway One - rock 'n' roll Dance Party
DESCRIPTION:Highway One leads you right up to the Hill House Inn\, 10701 Palette Dr\, Mendocino on Saturday\, February 27. With a friendly blend of quality homegrown rock 'n' roll guaranteed to get your motor runnin'\, Highway One will take you on a journey through rock music with sharp turns\, patchy fog\, and fast straight stretches. With Sean Van Buskirk at the wheel\, Philip Dunn navigating\, Sean"Connie man" Connolly and Jeffrey Walsh and Brian Urban back seat driving\, you will want to jump up and go for the ride of your life. Road Worthy Rock from Highway One.\n\nDoors open at 6PM with a full bar and casual dining. $10 at the door. Call 937-0554 for more info.
X-ALT-DESC;FMTTYPE=text/html:<p>Highway One leads you right up to the Hill House Inn\, 10701 Palette Dr\, Mendocino on Saturday\, February 27. With a friendly blend of quality homegrown rock 'n' roll guaranteed to get your motor runnin'\, Highway One will take you on a journey through rock music with sharp turns\, patchy fog\, and fast straight stretches. With Sean Van Buskirk at the wheel\, Philip Dunn navigating\, Sean"Connie man" Connolly and Jeffrey Walsh and Brian Urban back seat driving\, you will want to jump up and go for the ride of your life. Road Worthy Rock from Highway One.<br /><br />Doors open at 6PM with a full bar and casual dining. $10 at the door. Call 937-0554 for more info.</p>
LOCATION:Hill House of Mendocino
UID:e.2883.835
SEQUENCE:3
DTSTAMP:20260421T224445Z
URL:https://mendocinocoast.com/events/details/highway-one-rock-n-roll-dance-party-01-13-2016-835
END:VEVENT

END:VCALENDAR
