BEGIN:VCALENDAR
VERSION:2.0
PRODID:-//ChamberMaster//Event Calendar 2.0//EN
METHOD:PUBLISH
X-PUBLISHED-TTL:P3D
REFRESH-INTERVAL:P3D
CALSCALE:GREGORIAN
BEGIN:VEVENT
DTSTART;VALUE=DATE:20150525
DTEND;VALUE=DATE:20150526
TRANSP:TRANSPARENT
X-MICROSOFT-CDO-ALLDAYEVENT:TRUE
SUMMARY:Heritage House Music Series - Marcus McCallen
DESCRIPTION:Heritage House welcomes singer and guitarist Marcus McCallen. Music starts at 5:30. Happy Hour 4 Â to 6. Thursday is Locals' Night! Locals Specials all night. No Cover. Superb acoustics and spectacular views. 5 minutes south of Mendocino.
X-ALT-DESC;FMTTYPE=text/html:<p>Heritage House welcomes singer and guitarist Marcus McCallen. Music starts at 5:30. Happy Hour 4 Â to 6. Thursday is Locals' Night! Locals Specials all night. No Cover. Superb acoustics and spectacular views. 5 minutes south of Mendocino.</p>
LOCATION:Heritage House Resort Little River
UID:e.2883.634
SEQUENCE:3
DTSTAMP:20260422T115255Z
URL:https://mendocinocoast.com/events/details/heritage-house-music-series-marcus-mccallen-05-25-2015-634
END:VEVENT

END:VCALENDAR
