BEGIN:VCALENDAR
VERSION:2.0
PRODID:-//ChamberMaster//Event Calendar 2.0//EN
METHOD:PUBLISH
X-PUBLISHED-TTL:P3D
REFRESH-INTERVAL:P3D
CALSCALE:GREGORIAN
BEGIN:VEVENT
DTSTART;VALUE=DATE:20150223
DTEND;VALUE=DATE:20150224
TRANSP:TRANSPARENT
X-MICROSOFT-CDO-ALLDAYEVENT:TRUE
SUMMARY:Heritage House Music Series - Jon Faurot -No Cover
DESCRIPTION:Jon Faurot plays 40 years of classics from blues\, folk\, rock and pop. Thursday is Locals Night. Happy Hour 4 to 6. Specials all night. Music 5:30 to 8:00. No Cover. The most spectacular venue on The Coast. 5 minutes south of Mendocino.
X-ALT-DESC;FMTTYPE=text/html:<p>Jon Faurot plays 40 years of classics from blues\, folk\, rock and pop. Thursday is Locals Night. Happy Hour 4 to 6. Specials all night. Music 5:30 to 8:00. No Cover. The most spectacular venue on The Coast. 5 minutes south of Mendocino.</p>
LOCATION:Heritage House Resort Little River
UID:e.2883.549
SEQUENCE:3
DTSTAMP:20260422T151620Z
URL:https://mendocinocoast.com/events/details/heritage-house-music-series-jon-faurot-no-cover-02-23-2015-549
END:VEVENT

END:VCALENDAR
