BEGIN:VCALENDAR
VERSION:2.0
PRODID:-//ChamberMaster//Event Calendar 2.0//EN
METHOD:PUBLISH
X-PUBLISHED-TTL:P3D
REFRESH-INTERVAL:P3D
CALSCALE:GREGORIAN
BEGIN:VEVENT
DTSTART:20150320T010000Z
DTEND:20150319T203600Z
X-MICROSOFT-CDO-ALLDAYEVENT:FALSE
SUMMARY:Heritage House Music Series
DESCRIPTION:Heritage House Music Series featuring Live Music every Thursday from 5pm to 8:30. Â No Cover! Â Locals enjoy 20% every Thursday!
X-ALT-DESC;FMTTYPE=text/html:<p>Heritage House Music Series featuring Live Music every Thursday from 5pm to 8:30. Â No Cover! Â Locals enjoy 20% every Thursday!</p>
LOCATION:Heritage House Resort Little River
UID:e.2883.564
SEQUENCE:3
DTSTAMP:20260422T133424Z
URL:https://mendocinocoast.com/events/details/heritage-house-music-series-03-19-2015-564
END:VEVENT

END:VCALENDAR
