BEGIN:VCALENDAR
VERSION:2.0
PRODID:-//ChamberMaster//Event Calendar 2.0//EN
METHOD:PUBLISH
X-PUBLISHED-TTL:P3D
REFRESH-INTERVAL:P3D
CALSCALE:GREGORIAN
BEGIN:VEVENT
DTSTART:20131024T040000Z
DTEND:20131024T080000Z
X-MICROSOFT-CDO-ALLDAYEVENT:FALSE
SUMMARY:Haunted Hall of Horrors - Death Asylum 3D
DESCRIPTION:This is a high tech\, very  scary haunted house attraction\, not intended for young children.  Kids  under 10 MUST be accompanied by an adult.  Proceeds benefit co-funding  the Anti-Bully curriculum for the Fort Bragg Middle School.  16 and over  $8.00.  Under 16 free!  3D Glasses $1.00  per pair! The proceeds  benefit the Anti- bullying programs at the Fort Bragg Middle School and  for vocational scholarships. Â Contact Phone                                 :707-964-0921 http://www.fortbragglionsclub.org/LEO-HAUNTED-HOUSE-.html
X-ALT-DESC;FMTTYPE=text/html:<p><span><span style="font-family: Arial\; font-size: x-small\;">This is a high tech\, very  scary haunted house attraction\, not intended for young children.  Kids  under 10 MUST be accompanied by an adult.  Proceeds benefit co-funding  the Anti-Bully curriculum for the Fort Bragg Middle School.  16 and over  $8.00.  Under 16 free!  3D Glasses $1.00  per pair! The proceeds  benefit the Anti- bullying programs at the Fort Bragg Middle School and  for vocational scholarships. </span></span></p><p>Â </p><table id="table45" border="0" cellspacing="0" cellpadding="2"><tbody><tr><td width="160" align="right"><span><strong><span style="font-family: Arial\; font-size: x-small\;">Contact Phone                                 :</span></strong></span></td><td align="left" valign="top"><p><span><span style="font-family: Arial\; font-size: x-small\;">707-964-0921 </span></span></p></td></tr></tbody></table><p><a href="http://www.fortbragglionsclub.org/LEO-HAUNTED-HOUSE-.html" target="_blank">http://www.fortbragglionsclub.org/LEO-HAUNTED-HOUSE-.html</a></p>
LOCATION:430 E. Redwood Avenue\, Fort Bragg\, CA
UID:e.2883.21
SEQUENCE:3
DTSTAMP:20260423T233829Z
URL:https://mendocinocoast.com/events/details/haunted-hall-of-horrors-death-asylum-3d-10-23-2013-21
END:VEVENT

END:VCALENDAR
