BEGIN:VCALENDAR
VERSION:2.0
PRODID:-//ChamberMaster//Event Calendar 2.0//EN
METHOD:PUBLISH
X-PUBLISHED-TTL:P3D
REFRESH-INTERVAL:P3D
CALSCALE:GREGORIAN
BEGIN:VEVENT
DTSTART;VALUE=DATE:20141015
DTEND;VALUE=DATE:20141016
TRANSP:TRANSPARENT
X-MICROSOFT-CDO-ALLDAYEVENT:TRUE
SUMMARY:Haunted Hall of Horrors - CarnEvil
DESCRIPTION:The Fort Bragg Leo (youth group) presents....Â The Haunted Hall of Horrors - CarnEvil - 3DAn amazing Haunted House will over 13 room settings\, high tech special effects and extremely scary! Â Not geared towards young children. Â Children under 10 must be accompanied by adult.Â Fri Oct 24 7-10 pmSat Oct 25 7-10 pmHalloween Oct 31 7-10 pmAdult (16 and over) $10 Youth (under 16) $8
X-ALT-DESC;FMTTYPE=text/html:<p><span style="font-size:large\;">The Fort Bragg Leo (youth group) presents....</span></p><p>Â </p><p><span style="font-size:large\;">The Haunted Hall of Horrors - CarnEvil - 3D</span></p><p><span style="font-size:medium\;">An amazing Haunted House will over 13 room settings\, high tech special effects and extremely scary! Â Not geared towards young children. Â Children under 10 must be accompanied by adult.</span></p><p>Â </p><p><span style="font-size:medium\;">Fri<span> </span>Oct<span> </span>24<span> </span>7-10 pm</span></p><p><span style="font-size:medium\;">Sat<span> </span>Oct<span> </span>25<span> </span>7-10 pm</span></p><p><span style="font-size:medium\;">Halloween Oct 31<span> </span>7-10 pm</span></p><p><span style="font-size:medium\;">Adult (16 and over) $10<span> </span>Youth (under 16) $8</span></p>
LOCATION:Fort Bragg Lions Hall
UID:e.2883.350
SEQUENCE:3
DTSTAMP:20260422T214800Z
URL:https://mendocinocoast.com/events/details/haunted-hall-of-horrors-carnevil-10-15-2014-350
END:VEVENT

END:VCALENDAR
