BEGIN:VCALENDAR
VERSION:2.0
PRODID:-//ChamberMaster//Event Calendar 2.0//EN
METHOD:PUBLISH
X-PUBLISHED-TTL:P3D
REFRESH-INTERVAL:P3D
CALSCALE:GREGORIAN
BEGIN:VEVENT
DTSTART:20151017T022300Z
DTEND:20151016T182300Z
X-MICROSOFT-CDO-ALLDAYEVENT:FALSE
SUMMARY:HAUNTED HALL OF HORRORS
DESCRIPTION:The Fort Bragg Leo (youth group) presents....The Haunted Hall of Horrors- Celebrating 10 years of terror!TWO amaing haunted houses in ONE location! Very high tech speical effects and extremely scary! Not geared towards young children. Children under 10 must be accompained by adult.Â Fri Oct 23 Â 7-10 pmSat Oct 24 7-10 pmFri Oct 30 Â 7-10 pmHalloween Oct 31 Â 7-10 pmAdult $15 ADVANCE\, $20 at the door ~ Youth (16 & under) $10 ADVANCE\, $15 at the doorPurchase ADVANCE tickets at:Harvest Market/Boatyard Shopping Centeror online at: htp://www.hauntedhallofhorrors.com
X-ALT-DESC;FMTTYPE=text/html:<p>The Fort Bragg Leo (youth group) presents....</p><p>The Haunted Hall of Horrors- Celebrating 10 years of terror!</p><p>TWO amaing haunted houses in ONE location! Very high tech speical effects and extremely scary! Not geared towards young children. Children under 10 must be accompained by adult.</p><p>Â </p><p>Fri Oct 23 Â 7-10 pm</p><p>Sat Oct 24 7-10 pm</p><p>Fri Oct 30 Â 7-10 pm</p><p>Halloween Oct 31 Â 7-10 pm</p><p>Adult $15 ADVANCE\, $20 at the door ~ Youth (16 &amp\; under) $10 ADVANCE\, $15 at the door</p><p>Purchase ADVANCE tickets at:</p><p>Harvest Market/Boatyard Shopping Center</p><p>or online at: htp://www.hauntedhallofhorrors.com</p>
LOCATION:Masonic Lodge Fort Bragg
UID:e.2883.754
SEQUENCE:3
DTSTAMP:20260422T014944Z
URL:https://mendocinocoast.com/events/details/haunted-hall-of-horrors-10-16-2015-754
END:VEVENT

END:VCALENDAR
