BEGIN:VCALENDAR
VERSION:2.0
PRODID:-//ChamberMaster//Event Calendar 2.0//EN
METHOD:PUBLISH
X-PUBLISHED-TTL:P3D
REFRESH-INTERVAL:P3D
CALSCALE:GREGORIAN
BEGIN:VEVENT
DTSTART;VALUE=DATE:20151016
DTEND;VALUE=DATE:20151017
TRANSP:TRANSPARENT
X-MICROSOFT-CDO-ALLDAYEVENT:TRUE
SUMMARY:HAUNTED HALL OF HORRORS
DESCRIPTION:The Fort Bragg Leo (youth group) presents....The Haunted Hall of Horrors - Celebrating 10 years of terror!TWO amazing haunted houses in ONE lcoation! Very high tech special effects and extremely scary! Â Not geared towards young children. Â Children under 10 must be accompanied by adult.Â Fri Oct 23 Â  7-10 pmSat Oct 24 Â 7-10 pmFri Oct 30 Â  7-10 pmHalloween Oct 31 Â  7-10 pmAdult $15 ADVANCE\, $20 at the door ~ Â Youth (16 & under) $10 ADVANCE\, $15 at the doorPurchase ADVANCE tickets at:Harvest Market/Boatyard Shopping Centeror online at: Â http://www.hauntedhallofhorrors.com
X-ALT-DESC;FMTTYPE=text/html:<p>The Fort Bragg Leo (youth group) presents....</p><p>The Haunted Hall of Horrors - Celebrating 10 years of terror!</p><p>TWO amazing haunted houses in ONE lcoation! Very high tech special effects and extremely scary! Â Not geared towards young children. Â Children under 10 must be accompanied by adult.</p><p>Â </p><p>Fri Oct 23 Â  7-10 pm</p><p>Sat Oct 24 Â 7-10 pm</p><p>Fri Oct 30 Â  7-10 pm</p><p>Halloween Oct 31 Â  7-10 pm</p><p>Adult $15 ADVANCE\, $20 at the door ~ Â Youth (16 &amp\; under) $10 ADVANCE\, $15 at the door</p><p>Purchase ADVANCE tickets at:</p><p>Harvest Market/Boatyard Shopping Center</p><p>or online at: Â http://www.hauntedhallofhorrors.com</p>
LOCATION:Masonic Lodge Fort Bragg
UID:e.2883.752
SEQUENCE:3
DTSTAMP:20260422T014943Z
URL:https://mendocinocoast.com/events/details/haunted-hall-of-horrors-10-16-2015-752
END:VEVENT

END:VCALENDAR
