BEGIN:VCALENDAR
VERSION:2.0
PRODID:-//ChamberMaster//Event Calendar 2.0//EN
METHOD:PUBLISH
X-PUBLISHED-TTL:P3D
REFRESH-INTERVAL:P3D
CALSCALE:GREGORIAN
BEGIN:VEVENT
DTSTART:20150416T170000Z
DTEND:20150416T213000Z
X-MICROSOFT-CDO-ALLDAYEVENT:FALSE
SUMMARY:Harbor Seal Pupping Monitor Training - Volunteers needed!
DESCRIPTION:Volunteers are needed to act as Harbor Seal Pupping Monitors at MacKerricher State Park. Volunteers spend time on the beach at the seal rookery and remind park visitors to keep away from the seal moms and pups so they can safely give birth and raise their young. Learn about seals\, hang out at the beach\, and protect the next generation of marine mammals on the Mendocino Coast If you are interested in serving as a Seal Monitor\,Please call Fred Andrews at707-961-0471 or email fred.andrews@parks.ca.gov Or Come to the informational meeting at the MacKerricher Park Office on Sat. April 18th\, at 10:00 a.m. to 2:30 p.m.
X-ALT-DESC;FMTTYPE=text/html:<p><span style="font-family: 'Arial Black'\, sans-serif\;"><span style="font-size: medium\;">Volunteers are needed to act as Harbor Seal Pupping Monitors at MacKerricher State Park. Volunteers spend time on the beach at the seal rookery and remind park visitors to keep away from the seal moms and pups so they can safely give birth and raise their young. Learn about seals\, hang out at the beach\, and protect the next generation of marine mammals on the Mendocino Coast </span></span></p><p><span style="font-family: 'Arial Black'\, sans-serif\;"><span style="font-size: medium\;">If you are interested in serving as a Seal Monitor</span></span><span style="font-family: 'Arial Black'\, sans-serif\;"><span style="font-size: large\;">\,</span></span></p><p><span style="font-family: 'Arial Black'\, sans-serif\;"><span style="font-size: large\;">Please call Fred Andrews at</span></span></p><p><span style="font-family: 'Arial Black'\, sans-serif\;"><span style="font-size: large\;">707-961-0471 or email </span></span><span style="color: #0000ff\;"><span style="text-decoration: underline\;"><a href="mailto:fred.andrews@parks.ca.gov"><span style="font-family: 'Arial Black'\, sans-serif\;"><span style="font-size: large\;">fred.andrews@parks.ca.gov</span></span></a></span></span><span style="font-family: 'Arial Black'\, sans-serif\;"><span style="font-size: large\;"> </span></span></p><p><span style="font-family: 'Arial Black'\, sans-serif\;"><span style="font-size: medium\;">Or </span></span></p><p><span style="font-family: 'Arial Black'\, sans-serif\;"><span style="font-size: medium\;">Come to the informational meeting at the MacKerricher Park Office on Sat. April 18</span></span><sup><span style="font-family: 'Arial Black'\, sans-serif\;"><span style="font-size: medium\;">th\,</span></span></sup><span style="font-family: 'Arial Black'\, sans-serif\;"><span style="font-size: medium\;"> at 10:00 a.m. to 2:30 p.m.</span></span></p>
LOCATION:MacKerricher State Park Fort Bragg\, CA
UID:e.2883.604
SEQUENCE:3
DTSTAMP:20260422T115348Z
URL:https://mendocinocoast.com/events/details/harbor-seal-pupping-monitor-training-volunteers-needed-04-16-2015-604
END:VEVENT

END:VCALENDAR
