BEGIN:VCALENDAR
VERSION:2.0
PRODID:-//ChamberMaster//Event Calendar 2.0//EN
METHOD:PUBLISH
X-PUBLISHED-TTL:P3D
REFRESH-INTERVAL:P3D
CALSCALE:GREGORIAN
BEGIN:VEVENT
DTSTART:20140918T160000Z
DTEND:20140918T180000Z
X-MICROSOFT-CDO-ALLDAYEVENT:FALSE
SUMMARY:Hands on clay
DESCRIPTION:Hands on clay at the Oddfellows Hall\, Mendocino CA.10480 Kasten street MendocinoJoin in on this fun event from\,Thur. Sept. 18 - Fri. Sept. 19 2014 9:00 a.m.Hands on clay-explorations in the material worldThur. Sept. 18 - Fri. Sept. 19 2014 11:00 a.m.Hands on clayRecent work of 20 North Coast ceramic artists
X-ALT-DESC;FMTTYPE=text/html:<p>Hands on clay at the Oddfellows Hall\, Mendocino CA.</p><p>10480 Kasten street Mendocino</p><p>Join in on this fun event from\,</p><p>Thur. Sept. 18 - Fri. Sept. 19 2014 9:00 a.m.</p><p>Hands on clay-explorations in the material world</p><p>Thur. Sept. 18 - Fri. Sept. 19 2014 11:00 a.m.</p><p>Hands on clay</p><p>Recent work of 20 North Coast ceramic artists</p>
LOCATION:Oddfellow Hall Mendocino
UID:e.2883.332
SEQUENCE:3
DTSTAMP:20260422T231603Z
URL:https://mendocinocoast.com/events/details/hands-on-clay-09-18-2014-332
END:VEVENT

END:VCALENDAR
