BEGIN:VCALENDAR
VERSION:2.0
PRODID:-//ChamberMaster//Event Calendar 2.0//EN
METHOD:PUBLISH
X-PUBLISHED-TTL:P3D
REFRESH-INTERVAL:P3D
CALSCALE:GREGORIAN
BEGIN:VEVENT
DTSTART:20141030T003000Z
DTEND:20141030T023000Z
X-MICROSOFT-CDO-ALLDAYEVENT:FALSE
SUMMARY:Halloween Party-Mendo Monster Mash
DESCRIPTION:Costume parade\, music and stories with Chris Skyhawk\, treats and munchies\, and children's crafts.
X-ALT-DESC;FMTTYPE=text/html:<p>Costume parade\, music and stories with Chris Skyhawk\, treats and munchies\, and children's crafts.</p>
LOCATION:Community Center of Mendocino
UID:e.2883.359
SEQUENCE:3
DTSTAMP:20260422T231940Z
URL:https://mendocinocoast.com/events/details/halloween-party-mendo-monster-mash-10-29-2014-359
END:VEVENT

END:VCALENDAR
