BEGIN:VCALENDAR
VERSION:2.0
PRODID:-//ChamberMaster//Event Calendar 2.0//EN
METHOD:PUBLISH
X-PUBLISHED-TTL:P3D
REFRESH-INTERVAL:P3D
CALSCALE:GREGORIAN
BEGIN:VEVENT
DTSTART:20151201T043000Z
DTEND:20151201T070100Z
X-MICROSOFT-CDO-ALLDAYEVENT:FALSE
SUMMARY:Gypsy Swing Club Dance Party
DESCRIPTION:Come on out for some dancing fun when multi-talented musicians play with reverence for the Gypsy Jazz tradition a la Django Reinhardt. Corwin Zekley\, violin\, will be joined by David Brown and Andrew Louden on guitar and Keith Abrams on bass. \n\nMendocino native\, Corwin comes from a very musical background has been playing violin for the majority of his life and has been singing and writing songs for several years. Born in New Orleans\, David M. Brown http://www.davidmbrownmusic.com/bio.html began playing music professionally in 1972\, playing bass\, guitar and tenor banjo\, performing swing\, Dixieland\, pop and other styles. Keith Abrams grew up in Kansas City and was inspired by the great masters of jazz\, soul\, funk\, and psychedelia.\n\nDoors open at 6PM with a full bar and bistro menu. $10 at the door. 937-0554.
X-ALT-DESC;FMTTYPE=text/html:<p><span style="font-size:small\;">Come on out for some dancing fun when multi-talented musicians play with reverence for the Gypsy Jazz tradition a la Django Reinhardt. Corwin Zekley\, violin\, will be joined by David Brown and Andrew Louden on guitar and Keith Abrams on bass. </span><br /><br /><span style="font-size:small\;">Mendocino native\, Corwin comes from a very musical background has been playing violin for the majority of his life and has been singing and writing songs for several years. Born in New Orleans\, David M. Brown http://www.davidmbrownmusic.com/bio.html began playing music professionally in 1972\, playing bass\, guitar and tenor banjo\, performing swing\, Dixieland\, pop and other styles. Keith Abrams grew up in Kansas City and was inspired by the great masters of jazz\, soul\, funk\, and psychedelia.</span><br /><br /><span style="font-size:small\;">Doors open at 6PM with a full bar and bistro menu. $10 at the door. 937-0554. </span></p>
LOCATION:Hill House of Mendocino
UID:e.2883.804
SEQUENCE:3
DTSTAMP:20260422T001030Z
URL:https://mendocinocoast.com/events/details/gypsy-swing-club-dance-party-11-30-2015-804
END:VEVENT

END:VCALENDAR
