BEGIN:VCALENDAR
VERSION:2.0
PRODID:-//ChamberMaster//Event Calendar 2.0//EN
METHOD:PUBLISH
X-PUBLISHED-TTL:P3D
REFRESH-INTERVAL:P3D
CALSCALE:GREGORIAN
BEGIN:VEVENT
DTSTART:20141222T200000Z
DTEND:20141222T220000Z
X-MICROSOFT-CDO-ALLDAYEVENT:FALSE
SUMMARY:Guided walking tours Mendocino
DESCRIPTION:Travel back in time with a historical walking tour of Mendocino. Over the holidays\, the Kelley House is offering guided walking tours on Wednesday - Sunday from 11:00 - 1:00. Meet at the Kelley House Museum and begin your walk through time. $10.00 per person.
X-ALT-DESC;FMTTYPE=text/html:<p>Travel back in time with a historical walking tour of Mendocino. Over the holidays\, the Kelley House is offering guided walking tours on Wednesday - Sunday from 11:00 - 1:00. Meet at the Kelley House Museum and begin your walk through time. $10.00 per person.</p>
LOCATION:Kelley House Museum Mendocino
UID:e.2883.407
SEQUENCE:3
DTSTAMP:20260422T181732Z
URL:https://mendocinocoast.com/events/details/guided-walking-tours-mendocino-12-22-2014-407
END:VEVENT

END:VCALENDAR
