BEGIN:VCALENDAR
VERSION:2.0
PRODID:-//ChamberMaster//Event Calendar 2.0//EN
METHOD:PUBLISH
X-PUBLISHED-TTL:P3D
REFRESH-INTERVAL:P3D
CALSCALE:GREGORIAN
BEGIN:VEVENT
DTSTART;VALUE=DATE:20150831
DTEND;VALUE=DATE:20150901
TRANSP:TRANSPARENT
X-MICROSOFT-CDO-ALLDAYEVENT:TRUE
SUMMARY:Gualala River Run
DESCRIPTION:5K and 10K Runs and 5K Fun Walk to benefit Action Network Family Resource Centers. Â Starting and Finishing at the Gualala Arts Center\, Saturday October 10th\, 9am. Â Courses follow the Gualala River. Â Medals 3 deep in 9 age categories. Â Brunch\, open to all\, to follow.
X-ALT-DESC;FMTTYPE=text/html:<p>5K and 10K Runs and 5K Fun Walk to benefit Action Network Family Resource Centers. Â Starting and Finishing at the Gualala Arts Center\, Saturday October 10th\, 9am. Â Courses follow the Gualala River. Â Medals 3 deep in 9 age categories. Â Brunch\, open to all\, to follow.</p>
LOCATION:Gualala Arts Center
UID:e.2883.718
SEQUENCE:3
DTSTAMP:20260422T050001Z
URL:https://mendocinocoast.com/events/details/gualala-river-run-08-31-2015-718
END:VEVENT

END:VCALENDAR
