BEGIN:VCALENDAR
VERSION:2.0
PRODID:-//ChamberMaster//Event Calendar 2.0//EN
METHOD:PUBLISH
X-PUBLISHED-TTL:P3D
REFRESH-INTERVAL:P3D
CALSCALE:GREGORIAN
BEGIN:VEVENT
DTSTART:20140811T160000Z
DTEND:20140811T192000Z
X-MICROSOFT-CDO-ALLDAYEVENT:FALSE
SUMMARY:Gualala River Run
DESCRIPTION:"The Coolest Run in California" features 10k\, 5k Runs and 5k Fun Walk\, to benefit Action Network Family Resource Centers in Gualala.   The 10k and 5k courses follow the Gualala River through majextic redwood forest (pavement) and the 10k continues on smooth hard packed gravel paths (normally closed to the public).   Courses are accurately measured with mile markers.   zmedals awarded three deep in nine age categories for men and women in 5k and 10k
X-ALT-DESC;FMTTYPE=text/html:<p>&quot\;The Coolest Run in California&quot\; features 10k\, 5k Runs and 5k Fun Walk\, to benefit Action Network Family Resource Centers in Gualala.&Acirc\;&nbsp\; The 10k and 5k courses follow the Gualala River through majextic redwood forest (pavement) and the 10k continues on smooth hard packed gravel paths (normally closed to the public).&Acirc\;&nbsp\; Courses are accurately measured with mile markers.&Acirc\;&nbsp\; zmedals awarded three deep in nine age categories for men and women in 5k and 10k</p>\n
LOCATION:Gualala Arts Center
UID:e.2883.306
SEQUENCE:3
DTSTAMP:20260423T023311Z
URL:https://mendocinocoast.com/events/details/gualala-river-run-08-11-2014-306
END:VEVENT

END:VCALENDAR
