BEGIN:VCALENDAR
VERSION:2.0
PRODID:-//ChamberMaster//Event Calendar 2.0//EN
METHOD:PUBLISH
X-PUBLISHED-TTL:P3D
REFRESH-INTERVAL:P3D
CALSCALE:GREGORIAN
BEGIN:VEVENT
DTSTART;VALUE=DATE:20150724
DTEND;VALUE=DATE:20150725
TRANSP:TRANSPARENT
X-MICROSOFT-CDO-ALLDAYEVENT:TRUE
SUMMARY:Gualala River Run
DESCRIPTION:Action Network Family Resource Centersâ€™ Â Eleventh Annual Gualala River Run 5K & 10K and 5k Fun Walk\, Saturday October 10\, 2015.Â  Billed as the â€™Coolest Run in Californiaâ€™ the fun starts at 9:00 am and the courses go through the tall redwoods and along the Gualala River\, some on trails only open once a year for this event.For the serious runners\, the GRR offers mile markers that are accurately measured and allow runners to monitor their pace.Â  Gold\, Silver and Bronze Medals will be presented to 1st\, 2nd and 3rd places in nine age categories in the 5K and 10K races. Electronic timing will be provided by Ready Set Go.Fees for adults are $35 for the 5K and 10K runs\, and $30 for the 5K Fun Walk.Â  Youth\, 18 and under are $10 for all events.Â  Teams of 5 people or more receive a 20% discount.Â  Free T-shirt to all participants.Registration forms and details are available on the Action Network website at www.actionnetwork.info\, online registration at www.active.com or www.theschedule.com or www.RacerSignUp.com. Â  Day of registration is available inside the Gualala Art Center.Â Coastal Creations BrunchAt 10:30 join us for the fabulous Coastal Creations Brunch.Â  Tickets are $10 for adults\, and $5 for children 10 and under.Â  Join us for scrambled eggs\, veggie scrambled eggs\, potatoes\, turkey sausage\, fresh fruit\, yogurt\, tea\, coffee and milk.The Â Gualala River Run is family event with proceeds benefiting the Action Network Family Resource Centers in Gualala and Point Arena.Â  Help support our local youth development and wellness programs!Â  See www.ActionNetwork.info or call 707-884-5413 for details.Â Â
X-ALT-DESC;FMTTYPE=text/html:<p>Action Network Family Resource Centersâ€™ Â Eleventh Annual <strong>Gualala River Run 5K &amp\; 10K and 5k Fun Walk</strong>\, Saturday October 10\, 2015.Â  Billed as the â€™Coolest Run in Californiaâ€™ the fun starts at 9:00 am and the courses go through the tall redwoods and along the Gualala River\, some on trails only open once a year for this event.</p><p>For the serious runners\, the GRR offers mile markers that are accurately measured and allow runners to monitor their pace.Â  Gold\, Silver and Bronze Medals will be presented to 1<sup>st</sup>\, 2<sup>nd</sup> and 3<sup>rd</sup> places in nine age categories in the 5K and 10K races. Electronic timing will be provided by <em>Ready Set Go</em>.</p><p>Fees for adults are $35 for the 5K and 10K runs\, and $30 for the 5K Fun Walk.Â  Youth\, 18 and under are $10 for all events.Â  Teams of 5 people or more receive a 20% discount.Â  Free T-shirt to all participants.</p><p>Registration forms and details are available on the Action Network website at <a href="http://www.actionnetwork.info/">www.actionnetwork.info</a>\, online registration at <a href="http://www.active.com/">www.active.com</a> or <a href="http://www.theschedule.com/">www.theschedule.com</a> or <a href="http://www.racersignup.com/">www.RacerSignUp.com</a>. Â  Day of registration is available inside the Gualala Art Center.</p><p>Â </p><p><strong>Coastal Creations Brunch</strong></p><p>At 10:30 join us for the fabulous Coastal Creations Brunch.Â  Tickets are $10 for adults\, and $5 for children 10 and under.Â  Join us for scrambled eggs\, veggie scrambled eggs\, potatoes\, turkey sausage\, fresh fruit\, yogurt\, tea\, coffee and milk.</p><p>The Â Gualala River Run is family event with proceeds benefiting the Action Network Family Resource Centers in Gualala and Point Arena.Â  Help support our local youth development and wellness programs!Â  See <a href="http://www.actionnetwork.info/">www.ActionNetwork.info</a> or call 707-884-5413 for details.</p><p>Â </p><p>Â </p>
LOCATION:Gualala Arts Center
UID:e.2883.691
SEQUENCE:3
DTSTAMP:20260422T064146Z
URL:https://mendocinocoast.com/events/details/gualala-river-run-07-24-2015-691
END:VEVENT

END:VCALENDAR
