BEGIN:VCALENDAR
VERSION:2.0
PRODID:-//ChamberMaster//Event Calendar 2.0//EN
METHOD:PUBLISH
X-PUBLISHED-TTL:P3D
REFRESH-INTERVAL:P3D
CALSCALE:GREGORIAN
BEGIN:VEVENT
DTSTART:20141230T010000Z
DTEND:20141230T030000Z
X-MICROSOFT-CDO-ALLDAYEVENT:FALSE
SUMMARY:Gualala Arts Chamber Music Series
DESCRIPTION:Spend a relaxing Sunday enjoying the musical talents of David McCarroll & Roy Bogas. $25/advance\; $30/day of concert. Ages 7 through 17 admitted free with adult. 4 p.m. Gualala Arts Center\, 46501 Gualala Road\, Gualala. 707.884.1138 www.gualalaarts.org
X-ALT-DESC;FMTTYPE=text/html:<p>Spend a relaxing Sunday enjoying the musical talents of David McCarroll &amp\; Roy Bogas. $25/advance\; $30/day of concert. Ages 7 through 17 admitted free with adult. 4 p.m. Gualala Arts Center\, 46501 Gualala Road\, Gualala. 707.884.1138 www.gualalaarts.org</p>
LOCATION:Gualala Arts Center
UID:e.2883.416
SEQUENCE:3
DTSTAMP:20260422T195205Z
URL:https://mendocinocoast.com/events/details/gualala-arts-chamber-music-series-12-29-2014-416
END:VEVENT

END:VCALENDAR
