BEGIN:VCALENDAR
VERSION:2.0
PRODID:-//ChamberMaster//Event Calendar 2.0//EN
METHOD:PUBLISH
X-PUBLISHED-TTL:P3D
REFRESH-INTERVAL:P3D
CALSCALE:GREGORIAN
BEGIN:VEVENT
DTSTART;VALUE=DATE:20151123
DTEND;VALUE=DATE:20151124
TRANSP:TRANSPARENT
X-MICROSOFT-CDO-ALLDAYEVENT:TRUE
SUMMARY:Green Fields Ugly Christmas Sweater Hoedown
DESCRIPTION:Bluegrass from the Mendocino Coast!\n\nConcert starts at 9:00. Cover charge is $7 per person\, $10 per couple (couples can be friends\, relatives\, partners\, etc...). 18 and up. Beer\, wine and alcohol for purchase (21 and over only!). \n\n12 Secret Wrapped Prizes and a Grand Prize for the Ugliest Christmas Sweater!\n\nFor more information email us at fundraising@gloriana.org\n\nhttps://www.facebook.com/greenfieldsmendocino
X-ALT-DESC;FMTTYPE=text/html:<p><span>Bluegrass from the Mendocino Coast!</span><br /><br /><span>Concert starts at 9:00. Cover charge is $7 per person\, $10 per couple (couples can be friends\, relatives\, partners\, etc...). 18 and up. Beer\, wine and alcohol for purchase (21 and over only!). </span><br /><br /><span>12 Secret Wrapped Prizes and a Grand Prize for the Ugliest Christmas Sweater!</span><br /><br /><span>For more information email us at fundraising@gloriana.org</span><br /><br /><a href="https://www.facebook.com/greenfieldsmendocino">https://www.facebook.com/greenfieldsmendocino</a></p>
LOCATION:Eagles Hall Theatre\, 210 N Corry Fort Bragg
UID:e.2883.797
SEQUENCE:3
DTSTAMP:20260422T015102Z
URL:https://mendocinocoast.com/events/details/green-fields-ugly-christmas-sweater-hoedown-11-23-2015-797
END:VEVENT

END:VCALENDAR
