BEGIN:VCALENDAR
VERSION:2.0
PRODID:-//ChamberMaster//Event Calendar 2.0//EN
METHOD:PUBLISH
X-PUBLISHED-TTL:P3D
REFRESH-INTERVAL:P3D
CALSCALE:GREGORIAN
BEGIN:VEVENT
DTSTART:20150504T181500Z
DTEND:20150504T223000Z
X-MICROSOFT-CDO-ALLDAYEVENT:FALSE
SUMMARY:Great Rubber Ducky Race and BBQ
DESCRIPTION:Celebrate Mothers Day at Wages Creek Â Westport held at the Caspar & Westport Beach RV Park and Campground. This is sponsored by the westport Village Society The gates open at 11:15 Duck Registration begins at 11:30 BBO is served between 12:00 and 2:30. Every mother will receive a gift! Fun races and contests.raffles\, especially the grand drawing for yet another beautiful quilt! Â Every childs entrant in the kids race gets a gift. Bring you ducky and your Mom and come for a good time. Brochures with more information available at the Chamber of Commerce and the Westport Store
X-ALT-DESC;FMTTYPE=text/html:<p>Celebrate Mothers Day at Wages Creek Â Westport held at the Caspar &amp\; Westport Beach RV Park and Campground. This is sponsored by the westport Village Society The gates open at 11:15 Duck Registration begins at 11:30 BBO is served between 12:00 and 2:30. Every mother will receive a gift! Fun races and contests.raffles\, especially the grand drawing for yet another beautiful quilt! Â Every childs entrant in the kids race gets a gift. Bring you ducky and your Mom and come for a good time. Brochures with more information available at the Chamber of Commerce and the Westport Store</p>
LOCATION:Wages Creek Westport
UID:e.2883.618
SEQUENCE:3
DTSTAMP:20260422T101258Z
URL:https://mendocinocoast.com/events/details/great-rubber-ducky-race-and-bbq-05-04-2015-618
END:VEVENT

END:VCALENDAR
