BEGIN:VCALENDAR
VERSION:2.0
PRODID:-//ChamberMaster//Event Calendar 2.0//EN
METHOD:PUBLISH
X-PUBLISHED-TTL:P3D
REFRESH-INTERVAL:P3D
CALSCALE:GREGORIAN
BEGIN:VEVENT
DTSTART;VALUE=DATE:20141001
DTEND;VALUE=DATE:20141002
TRANSP:TRANSPARENT
X-MICROSOFT-CDO-ALLDAYEVENT:TRUE
SUMMARY:Grand Opening Mendocino Vapors
DESCRIPTION:Join us for a Ribbon Cutting celebration at the Grand Opening of Mendocino Vapors in Fort Bragg\, CA. See flyer!
X-ALT-DESC;FMTTYPE=text/html:<p>Join us for a Ribbon Cutting celebration at the Grand Opening of Mendocino Vapors in Fort Bragg\, CA. See flyer!</p>
LOCATION:Mendocino Vapors Fort Bragg
UID:e.2883.348
SEQUENCE:3
DTSTAMP:20260422T214620Z
URL:https://mendocinocoast.com/events/details/grand-opening-mendocino-vapors-10-01-2014-348
END:VEVENT

END:VCALENDAR
