BEGIN:VCALENDAR
VERSION:2.0
PRODID:-//ChamberMaster//Event Calendar 2.0//EN
METHOD:PUBLISH
X-PUBLISHED-TTL:P3D
REFRESH-INTERVAL:P3D
CALSCALE:GREGORIAN
BEGIN:VEVENT
DTSTART;VALUE=DATE:20141101
DTEND;VALUE=DATE:20141102
TRANSP:TRANSPARENT
X-MICROSOFT-CDO-ALLDAYEVENT:TRUE
SUMMARY:Grand Opening
DESCRIPTION:Dot & TwineGrand Opening 12-7Refreshments and door prizes from 5-7Handmade goods from Mendocino County.
X-ALT-DESC;FMTTYPE=text/html:<p>Dot &amp\; Twine</p><div>Grand Opening 12-7</div><p>Refreshments and door prizes from 5-7</p><div>Handmade goods from Mendocino County.</div>
LOCATION:Dot and Twine 322 N. Franklin St. Fort Bragg Ca
UID:e.2883.369
SEQUENCE:3
DTSTAMP:20260422T195630Z
URL:https://mendocinocoast.com/events/details/grand-opening-11-01-2014-369
END:VEVENT

END:VCALENDAR
