BEGIN:VCALENDAR
VERSION:2.0
PRODID:-//ChamberMaster//Event Calendar 2.0//EN
METHOD:PUBLISH
X-PUBLISHED-TTL:P3D
REFRESH-INTERVAL:P3D
CALSCALE:GREGORIAN
BEGIN:VEVENT
DTSTART:20151123T170500Z
DTEND:20151124T000400Z
X-MICROSOFT-CDO-ALLDAYEVENT:FALSE
SUMMARY:Gloriana's Black and White New Years Ball
DESCRIPTION:Looking for something fun to do on New Years? \nWant to dress up and go out on the town with your friends?\nWant to dance the night away to live music?\n\nThen join us for our 2nd Annual Black & White Ball on Thursday\, December 31 at Eagles Hall Theatre 210 N Corry @ Alder in Fort Bragg!\n\nDoors open at 8 PM with live music by the Mellow Maniacs beginning at 9 PM\n\nBring your friends and loved ones!\nThere will be appetizers\, a silent auction\, a photo booth\, party favors (hats\, tiaras and more)\, non-host full bar\, a Champagne toast and fun\, fun\, fun!\n\nDesignated drivers receive free non-alcoholic beverages all night!\n\nAdvance tickets: $30 per person\, $50 per couple (this could be a friend\, a relative\, partner..) \nTickets at the door: $35 per person\, $60 per couple.\n\nMust be 21 or over.http://www.brownpapertickets.com/event/2466077
X-ALT-DESC;FMTTYPE=text/html:<p>L<span>ooking for something fun to do on New Years? </span><br /><span>Want to dress up and go out on the town with your friends?</span><br /><span>Want to dance the night away to live music?</span><br /><br /><span>Then join us for our 2nd Annual Black &amp\; White Ball on Thursday\, December 31 at Eagles Hall Theatre 210 N Corry @ Alder in Fort Bragg!</span><br /><br /><span>Doors open at 8 PM with live music by the Mellow Maniacs beginning at 9 PM</span><br /><br /><span>Bring your friends and loved ones!</span><br /><span>There will be appetizers\, a silent auction\, a photo booth\, party favors (hats\, tiaras and more)\, non-host full bar\, a Champagne toast and fun\, fun\, fun!</span><br /><br /><span>Designated drivers receive free non-alcoholic beverages all night!</span><br /><br /><span>Advance tickets: $30 per person\, $50 per couple (this could be a friend\, a relative\, partner..) </span><br /><span>Tickets at the door: $35 per person\, $60 per couple.</span><br /><br /><span>Must be 21 or over.</span></p><p><span>http://www.brownpapertickets.com/event/2466077<br /></span></p>
LOCATION:Eagles Hall Theatre\, 210 N Corry Fort Bragg
UID:e.2883.796
SEQUENCE:3
DTSTAMP:20260422T001157Z
URL:https://mendocinocoast.com/events/details/gloriana-s-black-and-white-new-years-ball-11-23-2015-796
END:VEVENT

END:VCALENDAR
