BEGIN:VCALENDAR
VERSION:2.0
PRODID:-//ChamberMaster//Event Calendar 2.0//EN
METHOD:PUBLISH
X-PUBLISHED-TTL:P3D
REFRESH-INTERVAL:P3D
CALSCALE:GREGORIAN
BEGIN:VEVENT
DTSTART:20140210T230000Z
DTEND:20140211T013000Z
X-MICROSOFT-CDO-ALLDAYEVENT:FALSE
SUMMARY:Gloriana Presents Guys and Dolls Jr.
DESCRIPTION:Set in Damon Runyon's mythical New York City\, GUYS AND DOLLS JR.   introduces us to colorful characters who have become legends in musical   theatre:\n\n Sarah Brown\, the upÂ­right but uptight "mission doll\,"  Sky Masterson\, the  slick\, high-rolling gambler who woos her on a bet  and ends up falling  in love\, Adelaide\, a nightclub performer whose  chronic flu is brought on  by the fact she's been engaged to the same  man for 14 years\, and Nathan  Detroit\, her devoted fiancÃ©\, desperate as  always to find a spot for his  infamous floating dice game.
X-ALT-DESC;FMTTYPE=text/html:<p>Set in Damon Runyon's mythical New York City\, GUYS AND DOLLS JR.   introduces us to colorful characters who have become legends in musical   theatre:<br /><br /> Sarah Brown\, the upÂ­right but uptight "mission doll\,"  Sky Masterson\, the  slick\, high-rolling gambler who woos her on a bet  and ends up falling  in love\, Adelaide\, a nightclub performer whose  chronic flu is brought on  by the fact she's been engaged to the same  man for 14 years\, and Nathan  Detroit\, her devoted fiancÃ©\, desperate as  always to find a spot for his  infamous floating dice game.</p>
LOCATION:Eagles Hall Theatre Fort Bragg
UID:e.2883.128
SEQUENCE:3
DTSTAMP:20260423T145329Z
URL:https://mendocinocoast.com/events/details/gloriana-presents-guys-and-dolls-jr-02-10-2014-128
END:VEVENT

END:VCALENDAR
