BEGIN:VCALENDAR
VERSION:2.0
PRODID:-//ChamberMaster//Event Calendar 2.0//EN
METHOD:PUBLISH
X-PUBLISHED-TTL:P3D
REFRESH-INTERVAL:P3D
CALSCALE:GREGORIAN
BEGIN:VEVENT
DTSTART:20150504T143000Z
DTEND:20150504T090000Z
X-MICROSOFT-CDO-ALLDAYEVENT:FALSE
SUMMARY:Gloriana Musical Theatre pressents "Company"
DESCRIPTION:Bobby\, a confirmed bachelor\, is celebrating his 35th birthday with his 10 closest friends (who also happen to be five couples)\, "Company" culminates in Bobby's transformation from unattached bachelor to tentative bridegroom. Directed by Bob Cohen. Tony Award winning musical. Thursday\, July 30 at 7:30 pm through Sunday\, August 16 at 2 pm.
X-ALT-DESC;FMTTYPE=text/html:Bobby\, a confirmed bachelor\, is celebrating his 35th birthday with his 10 closest friends (who also happen to be five couples)\, "Company" culminates in Bobby's transformation from unattached bachelor to tentative bridegroom. Directed by Bob Cohen. Tony Award winning musical. Thursday\, July 30 at 7:30 pm through Sunday\, August 16 at 2 pm.
LOCATION:Eagles Hall Theatre\, 210 N. Corry at Alder Fort Bragg
UID:e.2883.620
SEQUENCE:3
DTSTAMP:20260422T101835Z
URL:https://mendocinocoast.com/events/details/gloriana-musical-theatre-pressents-company-05-04-2015-620
END:VEVENT

END:VCALENDAR
