BEGIN:VCALENDAR
VERSION:2.0
PRODID:-//ChamberMaster//Event Calendar 2.0//EN
METHOD:PUBLISH
X-PUBLISHED-TTL:P3D
REFRESH-INTERVAL:P3D
CALSCALE:GREGORIAN
BEGIN:VEVENT
DTSTART;VALUE=DATE:20151027
DTEND;VALUE=DATE:20151028
TRANSP:TRANSPARENT
X-MICROSOFT-CDO-ALLDAYEVENT:TRUE
SUMMARY:Gloriana Musical Theatre presents "Peter Pan"
DESCRIPTION:Peter and his mischievous fairy sidekick Tinkerbell visit the nursery of the Darling children late one night and with a sprinkle of pixie dust begin a magical journey across the stars that none of them will ever forget. In the adventure of a lifetime the travelers come face to face with a ticking crocodile\, a fierce Indian tribe\, a band of bungling pirates\, and of course the villainous Captain Hook. Directed by Lorry Lepaule. Running December 10 - 20. Tickets available online:Â http://www.brownpapertickets.com/event/2432174
X-ALT-DESC;FMTTYPE=text/html:<p><span>Peter and his mischievous fairy sidekick Tinkerbell visit the nursery of the Darling children late one night and with a sprinkle of pixie dust begin a magical journey across the stars that none of them will ever forget. In the adventure of a lifetime the travelers come face to face with a ticking crocodile\, a fierce Indian tribe\, a band of bungling pirates\, and of course the villainous Captain Hook. Directed by Lorry Lepaule. Running December 10 - 20. Tickets available online:Â http://www.brownpapertickets.com/event/2432174</span></p>
LOCATION:Eagles Hall Theatre\, 210 N Corry Fort Bragg
UID:e.2883.772
SEQUENCE:3
DTSTAMP:20260422T021055Z
URL:https://mendocinocoast.com/events/details/gloriana-musical-theatre-presents-peter-pan-10-27-2015-772
END:VEVENT

END:VCALENDAR
