BEGIN:VCALENDAR
VERSION:2.0
PRODID:-//ChamberMaster//Event Calendar 2.0//EN
METHOD:PUBLISH
X-PUBLISHED-TTL:P3D
REFRESH-INTERVAL:P3D
CALSCALE:GREGORIAN
BEGIN:VEVENT
DTSTART;VALUE=DATE:20160409
DTEND;VALUE=DATE:20160410
TRANSP:TRANSPARENT
X-MICROSOFT-CDO-ALLDAYEVENT:TRUE
SUMMARY:Gloriana Musical Theatre presents "Once Upon a Mattress"
DESCRIPTION:Follow Princess Winnifred as she seeks the hand of Prince Dauntless the Drab. Trouble arises when the princeâ€™s mother\, Queen Aggravain\, insists that her son marries only a true princess â€” that is\, one who is sensitive enough to feel a pea that is beneath a stack of mattresses. The princess must pass the test if there is any chance of living happily ever after. Directed by Jeffrey Grant. Running May 13 - 29. Fridays & Saturdays at 7:30\, Sundays at 3:00. Adults $22\, Youth (17 and under) $12. Tickets available online at gloriana.org\, Harvest Market\, Out of This World and at the door.
X-ALT-DESC;FMTTYPE=text/html:<p><span style="color:#222222\;font-family:&quot\;Liberation Serif&quot\;\, serif\;font-size:13.3333px\;line-height:23.4px\;">Follow Princess Winnifred as she seeks the hand of Prince Dauntless the Drab. Trouble arises when the princeâ€™s mother\, Queen Aggravain\, insists that her son marries only a true princess â€” that is\, one who is sensitive enough to feel a pea that is beneath a stack of mattresses. The princess must pass the test if there is any chance of living happily ever after. Directed by Jeffrey Grant. Running May 13 - 29. Fridays &amp\; Saturdays at 7:30\, Sundays at 3:00. Adults $22\, Youth (17 and under) $12. Tickets available online at gloriana.org\, Harvest Market\, Out of This World and at the door.</span></p>
LOCATION:Eagles Hall Theatre Fort Bragg
UID:e.2883.906
SEQUENCE:3
DTSTAMP:20260421T155404Z
URL:https://mendocinocoast.com/events/details/gloriana-musical-theatre-presents-once-upon-a-mattress-04-09-2016-906
END:VEVENT

END:VCALENDAR
