BEGIN:VCALENDAR
VERSION:2.0
PRODID:-//ChamberMaster//Event Calendar 2.0//EN
METHOD:PUBLISH
X-PUBLISHED-TTL:P3D
REFRESH-INTERVAL:P3D
CALSCALE:GREGORIAN
BEGIN:VEVENT
DTSTART:20150220T180000Z
DTEND:20150221T000000Z
X-MICROSOFT-CDO-ALLDAYEVENT:FALSE
SUMMARY:Gloriana Musical Theatre Indoor Yard Sale
DESCRIPTION:Gloriana Musical Theatre Indoor Yard Sale this Saturday\, February 21 from 9 am to 3 pm at Eagles Hall Theatre\, 210 N. Corry at Alder\, Fort Bragg. Furniture\, lamps\, toys and baby items\, electronics\, hand tools\, Christmas items\, Kitchen and household items\, mirrors and more. Plus BBQ Tri-Tip and Chicken Sandwiches\, coffee and doughnuts for sale.Fundraiser for Gloriana Musical Theatre 964-7469
X-ALT-DESC;FMTTYPE=text/html:<p>Gloriana Musical Theatre Indoor Yard Sale this Saturday\, February 21 from 9 am to 3 pm at Eagles Hall Theatre\, 210 N. Corry at Alder\, Fort Bragg. Furniture\, lamps\, toys and baby items\, electronics\, hand tools\, Christmas items\, Kitchen and household items\, mirrors and more. Plus BBQ Tri-Tip and Chicken Sandwiches\, coffee and doughnuts for sale.</p><p>Fundraiser for Gloriana Musical Theatre 964-7469&lt\;</p>
LOCATION:Eagles Hall Theatre Fort Bragg\, CA
UID:e.2883.546
SEQUENCE:3
DTSTAMP:20260422T151607Z
URL:https://mendocinocoast.com/events/details/gloriana-musical-theatre-indoor-yard-sale-02-20-2015-546
END:VEVENT

END:VCALENDAR
