BEGIN:VCALENDAR
VERSION:2.0
PRODID:-//ChamberMaster//Event Calendar 2.0//EN
METHOD:PUBLISH
X-PUBLISHED-TTL:P3D
REFRESH-INTERVAL:P3D
CALSCALE:GREGORIAN
BEGIN:VEVENT
DTSTART;VALUE=DATE:20151214
DTEND;VALUE=DATE:20151215
TRANSP:TRANSPARENT
X-MICROSOFT-CDO-ALLDAYEVENT:TRUE
SUMMARY:Gingerbread House workshop at Trillium Cafe
DESCRIPTION:Â It is fun for all ages\, and reservations are required. It costs $35 per house\, and the times are 11:00\, 1:00 and 3:00. Sunday December 20th\nEverything will be included to decorate a complete homemade Gingerbread House!Call 707-937-3200 to make reservationsÂ
X-ALT-DESC;FMTTYPE=text/html:<p>Â </p><blockquote><div>It is fun for all ages\, and reservations are required. It costs $35 per house\, and the times are 11:00\, 1:00 and 3:00. Sunday December 20th<br />Everything will be included to decorate a complete homemade Gingerbread House!</div><div>Call 707-937-3200 to make reservations</div></blockquote><p>Â </p>
LOCATION:Trillium Cafe Mendocino
UID:e.2883.808
SEQUENCE:3
DTSTAMP:20260422T001855Z
URL:https://mendocinocoast.com/events/details/gingerbread-house-workshop-at-trillium-cafe-12-14-2015-808
END:VEVENT

END:VCALENDAR
