BEGIN:VCALENDAR
VERSION:2.0
PRODID:-//ChamberMaster//Event Calendar 2.0//EN
METHOD:PUBLISH
X-PUBLISHED-TTL:P3D
REFRESH-INTERVAL:P3D
CALSCALE:GREGORIAN
BEGIN:VEVENT
DTSTART:20140417T200000Z
DTEND:20140417T220000Z
X-MICROSOFT-CDO-ALLDAYEVENT:FALSE
SUMMARY:Gereen Machine Party for the Planet
DESCRIPTION:Clean and Green Machines! - Party For the Planet! Car Reception at the Beachcomber Captains' Deck on the Beach!\nThe famous Cliff House Restaurant will be serving Electric Wheels Menu :)Â  Frey Vineyards\, the first Organic Winery\, will be servingÂ  their #1 Organic Wines!Â  Great Raffle items! Grand Prize " Free Room Night"! The owners of Electric and Hybrid "sustainable" cars would receive free entry to the event! Saturday\, April 19th\, 1 to 3pm at the Beachcomber Motel on the Captains' Deck.Â  Have fun while charging your "sustainable" car at Beachcombers electric car charging station!
X-ALT-DESC;FMTTYPE=text/html:<p><span>Clean and Green Machines! - Party For the Planet! Car Reception at the Beachcomber Captains' Deck on the Beach!</span><br /><span>The famous Cliff House Restaurant will be serving Electric Wheels Menu :)Â  Frey Vineyards\, the first Organic Winery\, will be servingÂ  their #1 Organic Wines!Â  Great Raffle items! Grand Prize " Free Room Night"! The owners of Electric and Hybrid "sustainable" cars would receive free entry to the event! </span><span><span>Saturday\, April 19th\, 1 to 3pm</span></span><span> at the Beachcomber Motel on the Captains' Deck.Â  Have fun while charging your "sustainable" car at Beachcombers electric car charging station!</span></p>
LOCATION:Tbe Beachcomber Hotel & Spa Fort Bragg
UID:e.2883.220
SEQUENCE:3
DTSTAMP:20260423T100006Z
URL:https://mendocinocoast.com/events/details/gereen-machine-party-for-the-planet-04-17-2014-220
END:VEVENT

END:VCALENDAR
