BEGIN:VCALENDAR
VERSION:2.0
PRODID:-//ChamberMaster//Event Calendar 2.0//EN
METHOD:PUBLISH
X-PUBLISHED-TTL:P3D
REFRESH-INTERVAL:P3D
CALSCALE:GREGORIAN
BEGIN:VEVENT
DTSTART:20141231T060100Z
DTEND:20141231T100000Z
X-MICROSOFT-CDO-ALLDAYEVENT:FALSE
SUMMARY:Gate Crashers at Hill House Inn
DESCRIPTION:"The Gate Crashers will keep you dancing to an eclectic mix of rock\, blues\, folk\, and funk!"\n\nA 5-piece rock band\, The Gatecrashers have a folk-blues influence and is comprised of residents along the Mendocino Coast. Denny Lunsford (Elk) - lead guitar & vocals and Bruce Graves (Fort Bragg) â€“ bass\, have been playing together steadily since 1975. They are joined by Kirk Handley (Elk) - keyboards\, rhythm guitar\, & vocals\; Sam Ware (Fort Bragg) - drums\; and Jamie Peters (Fort Bragg) - vocals & rhythm instruments.\n\nThe Gatecrashers song list is comprised of originals and cover tunes. Initially more blues oriented\, over the past three years The Gatecrashers have added more rock into their repertoire\, including a smattering of 60's 70's â€˜80s & â€˜90s cover =\n\nDoors Open at 6:00 - Casual Dining and Full BarÂ \nDance Music from 9 - 1AM\nTickets are $20.00 at the Door
X-ALT-DESC;FMTTYPE=text/html:<p>"The Gate Crashers will keep you dancing to an eclectic mix of rock\, blues\, folk\, and funk!"<br /><br />A 5-piece rock band\, The Gatecrashers have a folk-blues influence and is comprised of residents along the Mendocino Coast. Denny Lunsford (Elk) - lead guitar &amp\; vocals and Bruce Graves (Fort Bragg) â€“ bass\, have been playing together steadily since 1975. They are joined by Kirk Handley (Elk) - keyboards\, rhythm guitar\, &amp\; vocals\; Sam Ware (Fort Bragg) - drums\; and Jamie Peters (Fort Bragg) - vocals &amp\; rhythm instruments.<br /><br />The Gatecrashers song list is comprised of originals and cover tunes. Initially more blues oriented\, over the past three years The Gatecrashers have added more rock into their repertoire\, including a smattering of 60's 70's â€˜80s &amp\; â€˜90s cover =<br /><br />Doors Open at 6:00 - Casual Dining and Full BarÂ <br />Dance Music from 9 - 1AM<br />Tickets are $20.00 at the Door</p>
LOCATION:Hill House Inn Mendocino CA
UID:e.2883.424
SEQUENCE:3
DTSTAMP:20260422T181940Z
URL:https://mendocinocoast.com/events/details/gate-crashers-at-hill-house-inn-12-30-2014-424
END:VEVENT

END:VCALENDAR
