BEGIN:VCALENDAR
VERSION:2.0
PRODID:-//ChamberMaster//Event Calendar 2.0//EN
METHOD:PUBLISH
X-PUBLISHED-TTL:P3D
REFRESH-INTERVAL:P3D
CALSCALE:GREGORIAN
BEGIN:VEVENT
DTSTART:20140325T000000Z
DTEND:20140325T010000Z
X-MICROSOFT-CDO-ALLDAYEVENT:FALSE
SUMMARY:Gardens Galore in Japan and South Korea
DESCRIPTION:The autumn leaf color is splendiferous in the Kyoto temple gardens\, palaces and villas â€“ brilliant by night as well as by day. Shirley will show both dry gravel and moist moss gardens. The Ritsurin Garden in Takamatsu and the Nijo Castle garden in Kyoto are expansive and beautiful with wonderful teahouses from whichÂ to enjoy the view.Â Raw nature "god's gardens" in Japan are wonderful\, too.Â â€œThe whole island of Miyajima is considered a god\,â€ explains presenter Shirley Freriks.Â â€œOn Jeju Island\,Â South Korea\,Â the Spirit Bonsai and Rock Garden is one of the best in the world\, and the Botanical Garden is unique in my experience.â€Â Discussion is encouraged at the conclusion of the visual presentation.
X-ALT-DESC;FMTTYPE=text/html:<p>The autumn leaf color is splendiferous in the Kyoto temple gardens\, palaces and villas â€“ brilliant by night as well as by day. Shirley will show both dry gravel and moist moss gardens. The Ritsurin Garden in Takamatsu and the Nijo Castle garden in Kyoto are expansive and beautiful with wonderful teahouses from whichÂ to enjoy the view.</p><p>Â </p><p>Raw nature "god's gardens" in Japan are wonderful\, too.Â â€œThe whole island of Miyajima is considered a god\,â€ explains presenter Shirley Freriks.Â â€œOn Jeju Island\,Â South Korea\,Â the Spirit Bonsai and Rock Garden is one of the best in the world\, and the Botanical Garden is unique in my experience.â€</p><p>Â </p><p>Discussion is encouraged at the conclusion of the visual presentation.</p>
LOCATION:Mendocino Art Center
UID:e.2883.187
SEQUENCE:3
DTSTAMP:20260423T113944Z
URL:https://mendocinocoast.com/events/details/gardens-galore-in-japan-and-south-korea-03-24-2014-187
END:VEVENT

END:VCALENDAR
