BEGIN:VCALENDAR
VERSION:2.0
PRODID:-//ChamberMaster//Event Calendar 2.0//EN
METHOD:PUBLISH
X-PUBLISHED-TTL:P3D
REFRESH-INTERVAL:P3D
CALSCALE:GREGORIAN
BEGIN:VEVENT
DTSTART;VALUE=DATE:20140423
DTEND;VALUE=DATE:20140424
TRANSP:TRANSPARENT
X-MICROSOFT-CDO-ALLDAYEVENT:TRUE
SUMMARY:Funkacillin - "old school" funk\, rock and soul tunes
DESCRIPTION:First time in Mendocino Stories and Music Series\, Funkacillin will head to the stage at Hill House on Saturday\, May 17. James Brown once said\, "The one thing that can solve most of our problems is dancing". Well\, Funkacillin aims to put your troubles on the back burner with a mix of originals and "old school" funk\, rock and soul tunes by heavy hitters including The Isley Brothers\, Curtis Mayfield\, Chaka Khan\, Aretha Franklin and Cold Blood.\n\nFunkacillin features Lex Krauss (guitar) of Mendozone and formerly Rootstock\; Cherie Sheraque (vocals) formerly of Groove Approved and currently of Samba Jamba\; Jim Dooley (trumpet and keyboard) of all of the above along with Pura Vida and Los Piratas\; Blair Rowland (drums) formerly of Tubesteak Jones and currently with Dumbstruck Genius\; Nick Ford (bass) formerly of GDX\, and a special guest (percussion).\n\nDoors open at 6PM for bistro menu and full bar. Advanced tickets - Reserved table seating - $15\; $10 general admission at the door. For tickets and more info call Pattie at 707-937-1732. www.mendocinostories.com/events.html
X-ALT-DESC;FMTTYPE=text/html:<p>First time in <strong>Mendocino Stories and Music Series</strong>\, Funkacillin will head to the stage at Hill House on Saturday\, May 17. James Brown once said\, "The one thing that can solve most of our problems is dancing". Well\, Funkacillin aims to put your troubles on the back burner with a mix of originals and "old school" funk\, rock and soul tunes by heavy hitters including The Isley Brothers\, Curtis Mayfield\, Chaka Khan\, Aretha Franklin and Cold Blood.<br /><br />Funkacillin features Lex Krauss (guitar) of Mendozone and formerly Rootstock\; Cherie Sheraque (vocals) formerly of Groove Approved and currently of Samba Jamba\; Jim Dooley (trumpet and keyboard) of all of the above along with Pura Vida and Los Piratas\; Blair Rowland (drums) formerly of Tubesteak Jones and currently with Dumbstruck Genius\; Nick Ford (bass) formerly of GDX\, and a special guest (percussion).<br /><br />Doors open at 6PM for bistro menu and full bar. Advanced tickets - Reserved table seating - $15\; $10 general admission at the door. For tickets and more info call Pattie at 707-937-1732. www.mendocinostories.com/events.html</p>
LOCATION:Hill House of Mendocino
UID:e.2883.241
SEQUENCE:3
DTSTAMP:20260423T100403Z
URL:https://mendocinocoast.com/events/details/funkacillin-old-school-funk-rock-and-soul-tunes-04-23-2014-241
END:VEVENT

END:VCALENDAR
