BEGIN:VCALENDAR
VERSION:2.0
PRODID:-//ChamberMaster//Event Calendar 2.0//EN
METHOD:PUBLISH
X-PUBLISHED-TTL:P3D
REFRESH-INTERVAL:P3D
CALSCALE:GREGORIAN
BEGIN:VEVENT
DTSTART:20150128T050000Z
DTEND:20150128T070000Z
X-MICROSOFT-CDO-ALLDAYEVENT:FALSE
SUMMARY:Friday Night Live Music @ MacCallum House
DESCRIPTION:Friday Night Live music @ the Grey Whale Bar - Sing your heart out to Dylan & the Beatles covers with local talent Jimmy Yang on acoustic guitar\; show starts at 8 pm. We look forward to seeing you!
X-ALT-DESC;FMTTYPE=text/html:<p>Friday Night Live music @ the Grey Whale Bar - Sing your heart out to Dylan &amp\; the Beatles covers with local talent Jimmy Yang on acoustic guitar\; show starts at 8 pm. We look forward to seeing you!</p>
LOCATION:MacCallum House Mendocino\, CA
UID:e.2883.466
SEQUENCE:3
DTSTAMP:20260422T163842Z
URL:https://mendocinocoast.com/events/details/friday-night-live-music-maccallum-house-01-27-2015-466
END:VEVENT

END:VCALENDAR
